BEGIN:VCALENDAR
VERSION:2.0
PRODID:-//Crossroads Parish - ECPv6.15.18//NONSGML v1.0//EN
CALSCALE:GREGORIAN
METHOD:PUBLISH
X-WR-CALNAME:Crossroads Parish
X-ORIGINAL-URL:https://www.crossroads55112.org
X-WR-CALDESC:Events for Crossroads Parish
REFRESH-INTERVAL;VALUE=DURATION:PT1H
X-Robots-Tag:noindex
X-PUBLISHED-TTL:PT1H
BEGIN:VTIMEZONE
TZID:Africa/Abidjan
BEGIN:STANDARD
TZOFFSETFROM:+0000
TZOFFSETTO:+0000
TZNAME:GMT
DTSTART:20220101T000000
END:STANDARD
END:VTIMEZONE
BEGIN:VEVENT
DTSTART;TZID=Africa/Abidjan:20231002T080000
DTEND;TZID=Africa/Abidjan:20231002T090000
DTSTAMP:20260425T133807
CREATED:20230906T015020Z
LAST-MODIFIED:20230906T015020Z
UID:25124-1696233600-1696237200@www.crossroads55112.org
SUMMARY:A-Men's Bible Study
DESCRIPTION:At Atonement.
URL:https://www.crossroads55112.org/eventsingle/a-mens-bible-study-34/
CATEGORIES:Meetings
END:VEVENT
BEGIN:VEVENT
DTSTART;TZID=Africa/Abidjan:20231002T130000
DTEND;TZID=Africa/Abidjan:20231002T150000
DTSTAMP:20260425T133807
CREATED:20230906T015021Z
LAST-MODIFIED:20230906T015021Z
UID:25125-1696251600-1696258800@www.crossroads55112.org
SUMMARY:A-ABCD
DESCRIPTION:
URL:https://www.crossroads55112.org/eventsingle/a-abcd-9/
CATEGORIES:Meetings
END:VEVENT
BEGIN:VEVENT
DTSTART;TZID=Africa/Abidjan:20231002T130000
DTEND;TZID=Africa/Abidjan:20231002T150000
DTSTAMP:20260425T133807
CREATED:20230906T015021Z
LAST-MODIFIED:20230906T015021Z
UID:25126-1696251600-1696258800@www.crossroads55112.org
SUMMARY:A-Kitchen Kutups
DESCRIPTION:
URL:https://www.crossroads55112.org/eventsingle/a-kitchen-kutups-23/
CATEGORIES:Meetings
END:VEVENT
BEGIN:VEVENT
DTSTART;TZID=Africa/Abidjan:20231002T130000
DTEND;TZID=Africa/Abidjan:20231002T150000
DTSTAMP:20260425T133807
CREATED:20230906T015021Z
LAST-MODIFIED:20230906T015021Z
UID:25127-1696251600-1696258800@www.crossroads55112.org
SUMMARY:A-Kitchen Kutups
DESCRIPTION:
URL:https://www.crossroads55112.org/eventsingle/a-kitchen-kutups-24/
CATEGORIES:Meetings
END:VEVENT
END:VCALENDAR