BEGIN:VCALENDAR
VERSION:2.0
PRODID:-//Crossroads Parish - ECPv6.15.18//NONSGML v1.0//EN
CALSCALE:GREGORIAN
METHOD:PUBLISH
X-ORIGINAL-URL:https://www.crossroads55112.org
X-WR-CALDESC:Events for Crossroads Parish
REFRESH-INTERVAL;VALUE=DURATION:PT1H
X-Robots-Tag:noindex
X-PUBLISHED-TTL:PT1H
BEGIN:VTIMEZONE
TZID:Africa/Abidjan
BEGIN:STANDARD
TZOFFSETFROM:+0000
TZOFFSETTO:+0000
TZNAME:GMT
DTSTART:20220101T000000
END:STANDARD
END:VTIMEZONE
BEGIN:VEVENT
DTSTART;TZID=Africa/Abidjan:20231007T090000
DTEND;TZID=Africa/Abidjan:20231007T150000
DTSTAMP:20260424T111022
CREATED:20230906T015022Z
LAST-MODIFIED:20230906T015022Z
UID:25134-1696669200-1696690800@www.crossroads55112.org
SUMMARY:A-Mount of Blessing Church
DESCRIPTION:
URL:https://www.crossroads55112.org/eventsingle/a-mount-of-blessing-church-49/
CATEGORIES:Meetings
END:VEVENT
BEGIN:VEVENT
DTSTART;TZID=Africa/Abidjan:20231007T090000
DTEND;TZID=Africa/Abidjan:20231007T150000
DTSTAMP:20260424T111022
CREATED:20230906T015022Z
LAST-MODIFIED:20230906T015022Z
UID:25135-1696669200-1696690800@www.crossroads55112.org
SUMMARY:A-Mount of Blessing Church
DESCRIPTION:
URL:https://www.crossroads55112.org/eventsingle/a-mount-of-blessing-church-50/
CATEGORIES:Meetings
END:VEVENT
BEGIN:VEVENT
DTSTART;TZID=Africa/Abidjan:20231007T090000
DTEND;TZID=Africa/Abidjan:20231007T170000
DTSTAMP:20260424T111022
CREATED:20230906T015022Z
LAST-MODIFIED:20230906T015022Z
UID:25136-1696669200-1696698000@www.crossroads55112.org
SUMMARY:C-New Birth Church
DESCRIPTION:
URL:https://www.crossroads55112.org/eventsingle/c-new-birth-church-71/
CATEGORIES:Meetings
END:VEVENT
BEGIN:VEVENT
DTSTART;TZID=Africa/Abidjan:20231007T090000
DTEND;TZID=Africa/Abidjan:20231007T170000
DTSTAMP:20260424T111022
CREATED:20230906T015022Z
LAST-MODIFIED:20230906T015022Z
UID:25137-1696669200-1696698000@www.crossroads55112.org
SUMMARY:C-New Birth Church
DESCRIPTION:
URL:https://www.crossroads55112.org/eventsingle/c-new-birth-church-72/
CATEGORIES:Meetings
END:VEVENT
END:VCALENDAR