BEGIN:VCALENDAR
VERSION:2.0
PRODID:-//Crossroads Parish - ECPv6.15.18//NONSGML v1.0//EN
CALSCALE:GREGORIAN
METHOD:PUBLISH
X-WR-CALNAME:Crossroads Parish
X-ORIGINAL-URL:https://www.crossroads55112.org
X-WR-CALDESC:Events for Crossroads Parish
REFRESH-INTERVAL;VALUE=DURATION:PT1H
X-Robots-Tag:noindex
X-PUBLISHED-TTL:PT1H
BEGIN:VTIMEZONE
TZID:Africa/Abidjan
BEGIN:STANDARD
TZOFFSETFROM:+0000
TZOFFSETTO:+0000
TZNAME:GMT
DTSTART:20220101T000000
END:STANDARD
END:VTIMEZONE
BEGIN:VEVENT
DTSTART;TZID=Africa/Abidjan:20231011T160000
DTEND;TZID=Africa/Abidjan:20231011T170000
DTSTAMP:20260425T122933
CREATED:20230906T015024Z
LAST-MODIFIED:20230906T015434Z
UID:25156-1697040000-1697043600@www.crossroads55112.org
SUMMARY:C-Worship Committee
DESCRIPTION:
URL:https://www.crossroads55112.org/eventsingle/c-worship-committee-5/
CATEGORIES:Meetings
END:VEVENT
BEGIN:VEVENT
DTSTART;TZID=Africa/Abidjan:20231011T183000
DTEND;TZID=Africa/Abidjan:20231011T200000
DTSTAMP:20260425T122933
CREATED:20230906T015025Z
LAST-MODIFIED:20230906T015025Z
UID:25158-1697049000-1697054400@www.crossroads55112.org
SUMMARY:C-Councils Meet
DESCRIPTION:
URL:https://www.crossroads55112.org/eventsingle/c-councils-meet-3/
CATEGORIES:Meetings
END:VEVENT
BEGIN:VEVENT
DTSTART;TZID=Africa/Abidjan:20231011T183000
DTEND;TZID=Africa/Abidjan:20231011T200000
DTSTAMP:20260425T122933
CREATED:20230906T015025Z
LAST-MODIFIED:20230906T015025Z
UID:25159-1697049000-1697054400@www.crossroads55112.org
SUMMARY:C-Councils Meet
DESCRIPTION:
URL:https://www.crossroads55112.org/eventsingle/c-councils-meet-4/
CATEGORIES:Meetings
END:VEVENT
END:VCALENDAR