BEGIN:VCALENDAR
VERSION:2.0
PRODID:-//Crossroads Parish - ECPv6.15.18//NONSGML v1.0//EN
CALSCALE:GREGORIAN
METHOD:PUBLISH
X-ORIGINAL-URL:https://www.crossroads55112.org
X-WR-CALDESC:Events for Crossroads Parish
REFRESH-INTERVAL;VALUE=DURATION:PT1H
X-Robots-Tag:noindex
X-PUBLISHED-TTL:PT1H
BEGIN:VTIMEZONE
TZID:Africa/Abidjan
BEGIN:STANDARD
TZOFFSETFROM:+0000
TZOFFSETTO:+0000
TZNAME:GMT
DTSTART:20220101T000000
END:STANDARD
END:VTIMEZONE
BEGIN:VEVENT
DTSTART;TZID=Africa/Abidjan:20231012T093000
DTEND;TZID=Africa/Abidjan:20231012T103000
DTSTAMP:20260425T061640
CREATED:20230906T015025Z
LAST-MODIFIED:20230906T015025Z
UID:25160-1697103000-1697106600@www.crossroads55112.org
SUMMARY:A-Mary Circle
DESCRIPTION:
URL:https://www.crossroads55112.org/eventsingle/a-mary-circle-9/
CATEGORIES:Meetings
END:VEVENT
BEGIN:VEVENT
DTSTART;TZID=Africa/Abidjan:20231012T093000
DTEND;TZID=Africa/Abidjan:20231012T103000
DTSTAMP:20260425T061640
CREATED:20230906T015025Z
LAST-MODIFIED:20230906T015025Z
UID:25161-1697103000-1697106600@www.crossroads55112.org
SUMMARY:A-Mary Circle
DESCRIPTION:
URL:https://www.crossroads55112.org/eventsingle/a-mary-circle-10/
CATEGORIES:Meetings
END:VEVENT
BEGIN:VEVENT
DTSTART;TZID=Africa/Abidjan:20231012T100000
DTEND;TZID=Africa/Abidjan:20231012T110000
DTSTAMP:20260425T061640
CREATED:20230906T015025Z
LAST-MODIFIED:20230906T015025Z
UID:25162-1697104800-1697108400@www.crossroads55112.org
SUMMARY:C-Naomi Circle
DESCRIPTION:
URL:https://www.crossroads55112.org/eventsingle/c-naomi-circle-9/
CATEGORIES:Meetings
END:VEVENT
BEGIN:VEVENT
DTSTART;TZID=Africa/Abidjan:20231012T100000
DTEND;TZID=Africa/Abidjan:20231012T110000
DTSTAMP:20260425T061640
CREATED:20230906T015025Z
LAST-MODIFIED:20230906T015025Z
UID:25163-1697104800-1697108400@www.crossroads55112.org
SUMMARY:C-Naomi Circle
DESCRIPTION:
URL:https://www.crossroads55112.org/eventsingle/c-naomi-circle-10/
CATEGORIES:Meetings
END:VEVENT
BEGIN:VEVENT
DTSTART;TZID=Africa/Abidjan:20231012T130000
DTEND;TZID=Africa/Abidjan:20231012T140000
DTSTAMP:20260425T061640
CREATED:20230906T015025Z
LAST-MODIFIED:20230906T015025Z
UID:25164-1697115600-1697119200@www.crossroads55112.org
SUMMARY:A-Game Day
DESCRIPTION:
URL:https://www.crossroads55112.org/eventsingle/a-game-day-38/
CATEGORIES:Meetings
END:VEVENT
BEGIN:VEVENT
DTSTART;TZID=Africa/Abidjan:20231012T130000
DTEND;TZID=Africa/Abidjan:20231012T140000
DTSTAMP:20260425T061640
CREATED:20230906T015025Z
LAST-MODIFIED:20230906T015025Z
UID:25165-1697115600-1697119200@www.crossroads55112.org
SUMMARY:A-Game Day
DESCRIPTION:
URL:https://www.crossroads55112.org/eventsingle/a-game-day-39/
CATEGORIES:Meetings
END:VEVENT
END:VCALENDAR