BEGIN:VCALENDAR
VERSION:2.0
PRODID:-//Crossroads Parish - ECPv6.15.18//NONSGML v1.0//EN
CALSCALE:GREGORIAN
METHOD:PUBLISH
X-WR-CALNAME:Crossroads Parish
X-ORIGINAL-URL:https://www.crossroads55112.org
X-WR-CALDESC:Events for Crossroads Parish
REFRESH-INTERVAL;VALUE=DURATION:PT1H
X-Robots-Tag:noindex
X-PUBLISHED-TTL:PT1H
BEGIN:VTIMEZONE
TZID:Africa/Abidjan
BEGIN:STANDARD
TZOFFSETFROM:+0000
TZOFFSETTO:+0000
TZNAME:GMT
DTSTART:20220101T000000
END:STANDARD
END:VTIMEZONE
BEGIN:VEVENT
DTSTART;TZID=Africa/Abidjan:20231016T080000
DTEND;TZID=Africa/Abidjan:20231016T090000
DTSTAMP:20260425T185855
CREATED:20230906T015028Z
LAST-MODIFIED:20230906T015028Z
UID:25185-1697443200-1697446800@www.crossroads55112.org
SUMMARY:A-Men's Bible Study
DESCRIPTION:At Atonement.
URL:https://www.crossroads55112.org/eventsingle/a-mens-bible-study-38/
CATEGORIES:Meetings
END:VEVENT
BEGIN:VEVENT
DTSTART;TZID=Africa/Abidjan:20231016T080000
DTEND;TZID=Africa/Abidjan:20231016T090000
DTSTAMP:20260425T185855
CREATED:20230906T015028Z
LAST-MODIFIED:20230906T015028Z
UID:25184-1697443200-1697446800@www.crossroads55112.org
SUMMARY:A-Men's Bible Study
DESCRIPTION:At Atonement.
URL:https://www.crossroads55112.org/eventsingle/a-mens-bible-study-37/
CATEGORIES:Meetings
END:VEVENT
BEGIN:VEVENT
DTSTART;TZID=Africa/Abidjan:20231016T130000
DTEND;TZID=Africa/Abidjan:20231016T150000
DTSTAMP:20260425T185855
CREATED:20230906T015028Z
LAST-MODIFIED:20230906T015028Z
UID:25187-1697461200-1697468400@www.crossroads55112.org
SUMMARY:A-Kitchen Kutups
DESCRIPTION:
URL:https://www.crossroads55112.org/eventsingle/a-kitchen-kutups-27/
CATEGORIES:Meetings
END:VEVENT
BEGIN:VEVENT
DTSTART;TZID=Africa/Abidjan:20231016T130000
DTEND;TZID=Africa/Abidjan:20231016T150000
DTSTAMP:20260425T185855
CREATED:20230906T015028Z
LAST-MODIFIED:20230906T015028Z
UID:25186-1697461200-1697468400@www.crossroads55112.org
SUMMARY:A-Kitchen Kutups
DESCRIPTION:
URL:https://www.crossroads55112.org/eventsingle/a-kitchen-kutups-27/
CATEGORIES:Meetings
END:VEVENT
END:VCALENDAR