BEGIN:VCALENDAR
VERSION:2.0
PRODID:-//Crossroads Parish - ECPv6.15.18//NONSGML v1.0//EN
CALSCALE:GREGORIAN
METHOD:PUBLISH
X-ORIGINAL-URL:https://www.crossroads55112.org
X-WR-CALDESC:Events for Crossroads Parish
REFRESH-INTERVAL;VALUE=DURATION:PT1H
X-Robots-Tag:noindex
X-PUBLISHED-TTL:PT1H
BEGIN:VTIMEZONE
TZID:Africa/Abidjan
BEGIN:STANDARD
TZOFFSETFROM:+0000
TZOFFSETTO:+0000
TZNAME:GMT
DTSTART:20220101T000000
END:STANDARD
END:VTIMEZONE
BEGIN:VEVENT
DTSTART;TZID=Africa/Abidjan:20231026T130000
DTEND;TZID=Africa/Abidjan:20231026T140000
DTSTAMP:20260425T105130
CREATED:20230906T015030Z
LAST-MODIFIED:20230906T015030Z
UID:25208-1698325200-1698328800@www.crossroads55112.org
SUMMARY:A-Game Day
DESCRIPTION:
URL:https://www.crossroads55112.org/eventsingle/a-game-day-42/
CATEGORIES:Meetings
END:VEVENT
BEGIN:VEVENT
DTSTART;TZID=Africa/Abidjan:20231026T130000
DTEND;TZID=Africa/Abidjan:20231026T140000
DTSTAMP:20260425T105130
CREATED:20230906T015030Z
LAST-MODIFIED:20230906T015030Z
UID:25209-1698325200-1698328800@www.crossroads55112.org
SUMMARY:A-Game Day
DESCRIPTION:
URL:https://www.crossroads55112.org/eventsingle/a-game-day-43/
CATEGORIES:Meetings
END:VEVENT
END:VCALENDAR