BEGIN:VCALENDAR
VERSION:2.0
PRODID:-//Crossroads Parish - ECPv6.15.18//NONSGML v1.0//EN
CALSCALE:GREGORIAN
METHOD:PUBLISH
X-ORIGINAL-URL:https://www.crossroads55112.org
X-WR-CALDESC:Events for Crossroads Parish
REFRESH-INTERVAL;VALUE=DURATION:PT1H
X-Robots-Tag:noindex
X-PUBLISHED-TTL:PT1H
BEGIN:VTIMEZONE
TZID:Africa/Abidjan
BEGIN:STANDARD
TZOFFSETFROM:+0000
TZOFFSETTO:+0000
TZNAME:GMT
DTSTART:20220101T000000
END:STANDARD
END:VTIMEZONE
BEGIN:VEVENT
DTSTART;TZID=Africa/Abidjan:20231120T080000
DTEND;TZID=Africa/Abidjan:20231120T090000
DTSTAMP:20260423T052305
CREATED:20231105T013141Z
LAST-MODIFIED:20231105T013141Z
UID:25409-1700467200-1700470800@www.crossroads55112.org
SUMMARY:A-Men's Bible Study
DESCRIPTION:At Atonement.
URL:https://www.crossroads55112.org/eventsingle/a-mens-bible-study-45/
CATEGORIES:Meetings
END:VEVENT
BEGIN:VEVENT
DTSTART;TZID=Africa/Abidjan:20231120T130000
DTEND;TZID=Africa/Abidjan:20231120T150000
DTSTAMP:20260423T052305
CREATED:20231105T013141Z
LAST-MODIFIED:20231105T013141Z
UID:25410-1700485200-1700492400@www.crossroads55112.org
SUMMARY:A-Kitchen Kutups
DESCRIPTION:
URL:https://www.crossroads55112.org/eventsingle/a-kitchen-kutups-35/
CATEGORIES:Meetings
END:VEVENT
BEGIN:VEVENT
DTSTART;TZID=Africa/Abidjan:20231120T180000
DTEND;TZID=Africa/Abidjan:20231120T193000
DTSTAMP:20260423T052305
CREATED:20231105T013141Z
LAST-MODIFIED:20231105T013141Z
UID:25411-1700503200-1700508600@www.crossroads55112.org
SUMMARY:A-Girl Scouts
DESCRIPTION:
URL:https://www.crossroads55112.org/eventsingle/a-girl-scouts-18/
CATEGORIES:Meetings
END:VEVENT
END:VCALENDAR