BEGIN:VCALENDAR
VERSION:2.0
PRODID:-//Crossroads Parish - ECPv6.15.18//NONSGML v1.0//EN
CALSCALE:GREGORIAN
METHOD:PUBLISH
X-WR-CALNAME:Crossroads Parish
X-ORIGINAL-URL:https://www.crossroads55112.org
X-WR-CALDESC:Events for Crossroads Parish
REFRESH-INTERVAL;VALUE=DURATION:PT1H
X-Robots-Tag:noindex
X-PUBLISHED-TTL:PT1H
BEGIN:VTIMEZONE
TZID:Africa/Abidjan
BEGIN:STANDARD
TZOFFSETFROM:+0000
TZOFFSETTO:+0000
TZNAME:GMT
DTSTART:20220101T000000
END:STANDARD
END:VTIMEZONE
BEGIN:VEVENT
DTSTART;VALUE=DATE:20231124
DTEND;VALUE=DATE:20231125
DTSTAMP:20260423T092639
CREATED:20231105T013143Z
LAST-MODIFIED:20231105T013143Z
UID:25414-1700784000-1700870399@www.crossroads55112.org
SUMMARY:Office Closed
DESCRIPTION:
URL:https://www.crossroads55112.org/eventsingle/office-closed-7/
CATEGORIES:Meetings
END:VEVENT
BEGIN:VEVENT
DTSTART;TZID=Africa/Abidjan:20231124T170000
DTEND;TZID=Africa/Abidjan:20231124T190000
DTSTAMP:20260423T092639
CREATED:20231105T013143Z
LAST-MODIFIED:20231105T013143Z
UID:25415-1700845200-1700852400@www.crossroads55112.org
SUMMARY:C-New Birth Church
DESCRIPTION:
URL:https://www.crossroads55112.org/eventsingle/c-new-birth-church-89/
CATEGORIES:Meetings
END:VEVENT
END:VCALENDAR