BEGIN:VCALENDAR
VERSION:2.0
PRODID:-//Crossroads Parish - ECPv6.15.18//NONSGML v1.0//EN
CALSCALE:GREGORIAN
METHOD:PUBLISH
X-ORIGINAL-URL:https://www.crossroads55112.org
X-WR-CALDESC:Events for Crossroads Parish
REFRESH-INTERVAL;VALUE=DURATION:PT1H
X-Robots-Tag:noindex
X-PUBLISHED-TTL:PT1H
BEGIN:VTIMEZONE
TZID:Africa/Abidjan
BEGIN:STANDARD
TZOFFSETFROM:+0000
TZOFFSETTO:+0000
TZNAME:GMT
DTSTART:20220101T000000
END:STANDARD
END:VTIMEZONE
BEGIN:VEVENT
DTSTART;VALUE=DATE:20231210
DTEND;VALUE=DATE:20231211
DTSTAMP:20260419T154712
CREATED:20231117T184912Z
LAST-MODIFIED:20231117T184912Z
UID:25484-1702166400-1702252799@www.crossroads55112.org
SUMMARY:A-Prayer Ministers
DESCRIPTION:
URL:https://www.crossroads55112.org/eventsingle/a-prayer-ministers-12/
CATEGORIES:Meetings
END:VEVENT
BEGIN:VEVENT
DTSTART;TZID=Africa/Abidjan:20231210T083000
DTEND;TZID=Africa/Abidjan:20231210T093000
DTSTAMP:20260419T154712
CREATED:20231117T184913Z
LAST-MODIFIED:20231117T184913Z
UID:25485-1702197000-1702200600@www.crossroads55112.org
SUMMARY:C-Worship
DESCRIPTION:
URL:https://www.crossroads55112.org/eventsingle/c-worship-5/
CATEGORIES:Meetings
END:VEVENT
BEGIN:VEVENT
DTSTART;TZID=Africa/Abidjan:20231210T093000
DTEND;TZID=Africa/Abidjan:20231210T103000
DTSTAMP:20260419T154712
CREATED:20231117T184914Z
LAST-MODIFIED:20231117T184914Z
UID:25486-1702200600-1702204200@www.crossroads55112.org
SUMMARY:C-Sunday School/Youth
DESCRIPTION:
URL:https://www.crossroads55112.org/eventsingle/c-sunday-school-youth-16/
CATEGORIES:Meetings
END:VEVENT
BEGIN:VEVENT
DTSTART;TZID=Africa/Abidjan:20231210T104500
DTEND;TZID=Africa/Abidjan:20231210T114500
DTSTAMP:20260419T154712
CREATED:20231117T184915Z
LAST-MODIFIED:20231117T184915Z
UID:25487-1702205100-1702208700@www.crossroads55112.org
SUMMARY:A-Worship
DESCRIPTION:
URL:https://www.crossroads55112.org/eventsingle/a-worship-5/
CATEGORIES:Meetings
END:VEVENT
BEGIN:VEVENT
DTSTART;TZID=Africa/Abidjan:20231210T123000
DTEND;TZID=Africa/Abidjan:20231210T143000
DTSTAMP:20260419T154712
CREATED:20231117T184915Z
LAST-MODIFIED:20231117T184915Z
UID:25488-1702211400-1702218600@www.crossroads55112.org
SUMMARY:A-Faith Comm Church
DESCRIPTION:
URL:https://www.crossroads55112.org/eventsingle/a-faith-comm-church-49/
CATEGORIES:Meetings
END:VEVENT
END:VCALENDAR