BEGIN:VCALENDAR
VERSION:2.0
PRODID:-//Crossroads Parish - ECPv6.15.18//NONSGML v1.0//EN
CALSCALE:GREGORIAN
METHOD:PUBLISH
X-WR-CALNAME:Crossroads Parish
X-ORIGINAL-URL:https://www.crossroads55112.org
X-WR-CALDESC:Events for Crossroads Parish
REFRESH-INTERVAL;VALUE=DURATION:PT1H
X-Robots-Tag:noindex
X-PUBLISHED-TTL:PT1H
BEGIN:VTIMEZONE
TZID:Africa/Abidjan
BEGIN:STANDARD
TZOFFSETFROM:+0000
TZOFFSETTO:+0000
TZNAME:GMT
DTSTART:20220101T000000
END:STANDARD
END:VTIMEZONE
BEGIN:VEVENT
DTSTART;TZID=Africa/Abidjan:20231211T080000
DTEND;TZID=Africa/Abidjan:20231211T090000
DTSTAMP:20260419T205046
CREATED:20231117T184916Z
LAST-MODIFIED:20231117T184916Z
UID:25489-1702281600-1702285200@www.crossroads55112.org
SUMMARY:A-Men's Bible Study
DESCRIPTION:At Atonement.
URL:https://www.crossroads55112.org/eventsingle/a-mens-bible-study-48/
CATEGORIES:Meetings
END:VEVENT
BEGIN:VEVENT
DTSTART;TZID=Africa/Abidjan:20231211T130000
DTEND;TZID=Africa/Abidjan:20231211T140000
DTSTAMP:20260419T205046
CREATED:20231117T184918Z
LAST-MODIFIED:20231117T184918Z
UID:25490-1702299600-1702303200@www.crossroads55112.org
SUMMARY:C-Fellowship Circle
DESCRIPTION:
URL:https://www.crossroads55112.org/eventsingle/c-fellowship-circle-12/
CATEGORIES:Meetings
END:VEVENT
BEGIN:VEVENT
DTSTART;TZID=Africa/Abidjan:20231211T130000
DTEND;TZID=Africa/Abidjan:20231211T150000
DTSTAMP:20260419T205046
CREATED:20231117T184920Z
LAST-MODIFIED:20231117T184920Z
UID:25491-1702299600-1702306800@www.crossroads55112.org
SUMMARY:A-Kitchen Kutups
DESCRIPTION:
URL:https://www.crossroads55112.org/eventsingle/a-kitchen-kutups-38/
CATEGORIES:Meetings
END:VEVENT
BEGIN:VEVENT
DTSTART;TZID=Africa/Abidjan:20231211T180000
DTEND;TZID=Africa/Abidjan:20231211T190000
DTSTAMP:20260419T205046
CREATED:20231117T184921Z
LAST-MODIFIED:20231117T184921Z
UID:25492-1702317600-1702321200@www.crossroads55112.org
SUMMARY:A-Property Committee
DESCRIPTION:
URL:https://www.crossroads55112.org/eventsingle/a-property-committee-12/
CATEGORIES:Meetings
END:VEVENT
END:VCALENDAR