BEGIN:VCALENDAR
VERSION:2.0
PRODID:-//Crossroads Parish - ECPv6.15.18//NONSGML v1.0//EN
CALSCALE:GREGORIAN
METHOD:PUBLISH
X-WR-CALNAME:Crossroads Parish
X-ORIGINAL-URL:https://www.crossroads55112.org
X-WR-CALDESC:Events for Crossroads Parish
REFRESH-INTERVAL;VALUE=DURATION:PT1H
X-Robots-Tag:noindex
X-PUBLISHED-TTL:PT1H
BEGIN:VTIMEZONE
TZID:Africa/Abidjan
BEGIN:STANDARD
TZOFFSETFROM:+0000
TZOFFSETTO:+0000
TZNAME:GMT
DTSTART:20220101T000000
END:STANDARD
END:VTIMEZONE
BEGIN:VEVENT
DTSTART;TZID=Africa/Abidjan:20231214T093000
DTEND;TZID=Africa/Abidjan:20231214T103000
DTSTAMP:20260419T235535
CREATED:20231117T184922Z
LAST-MODIFIED:20231117T184922Z
UID:25495-1702546200-1702549800@www.crossroads55112.org
SUMMARY:A-Mary Circle
DESCRIPTION:
URL:https://www.crossroads55112.org/eventsingle/a-mary-circle-12/
CATEGORIES:Meetings
END:VEVENT
BEGIN:VEVENT
DTSTART;TZID=Africa/Abidjan:20231214T100000
DTEND;TZID=Africa/Abidjan:20231214T110000
DTSTAMP:20260419T235535
CREATED:20231117T184923Z
LAST-MODIFIED:20231117T184923Z
UID:25496-1702548000-1702551600@www.crossroads55112.org
SUMMARY:C-Naomi Circle
DESCRIPTION:
URL:https://www.crossroads55112.org/eventsingle/c-naomi-circle-12/
CATEGORIES:Meetings
END:VEVENT
BEGIN:VEVENT
DTSTART;TZID=Africa/Abidjan:20231214T130000
DTEND;TZID=Africa/Abidjan:20231214T140000
DTSTAMP:20260419T235535
CREATED:20231117T184924Z
LAST-MODIFIED:20231117T184924Z
UID:25497-1702558800-1702562400@www.crossroads55112.org
SUMMARY:A-Game Day
DESCRIPTION:
URL:https://www.crossroads55112.org/eventsingle/a-game-day-48/
CATEGORIES:Meetings
END:VEVENT
END:VCALENDAR