BEGIN:VCALENDAR
VERSION:2.0
PRODID:-//Crossroads Parish - ECPv6.15.18//NONSGML v1.0//EN
CALSCALE:GREGORIAN
METHOD:PUBLISH
X-ORIGINAL-URL:https://www.crossroads55112.org
X-WR-CALDESC:Events for Crossroads Parish
REFRESH-INTERVAL;VALUE=DURATION:PT1H
X-Robots-Tag:noindex
X-PUBLISHED-TTL:PT1H
BEGIN:VTIMEZONE
TZID:Africa/Abidjan
BEGIN:STANDARD
TZOFFSETFROM:+0000
TZOFFSETTO:+0000
TZNAME:GMT
DTSTART:20220101T000000
END:STANDARD
END:VTIMEZONE
BEGIN:VEVENT
DTSTART;TZID=Africa/Abidjan:20231219T180000
DTEND;TZID=Africa/Abidjan:20231219T193000
DTSTAMP:20260419T205241
CREATED:20231117T184929Z
LAST-MODIFIED:20231117T184929Z
UID:25509-1703008800-1703014200@www.crossroads55112.org
SUMMARY:C-Girl Scouts
DESCRIPTION:Bryan Bloomquist \nbmbloomquist@gmail.com  \n612-226-8339 \n1st and 3rd Tuesday of each month from 6-7:30
URL:https://www.crossroads55112.org/eventsingle/c-girl-scouts-23/
CATEGORIES:Meetings
END:VEVENT
END:VCALENDAR