BEGIN:VCALENDAR
VERSION:2.0
PRODID:-//Crossroads Parish - ECPv6.15.18//NONSGML v1.0//EN
CALSCALE:GREGORIAN
METHOD:PUBLISH
X-WR-CALNAME:Crossroads Parish
X-ORIGINAL-URL:https://www.crossroads55112.org
X-WR-CALDESC:Events for Crossroads Parish
REFRESH-INTERVAL;VALUE=DURATION:PT1H
X-Robots-Tag:noindex
X-PUBLISHED-TTL:PT1H
BEGIN:VTIMEZONE
TZID:Africa/Abidjan
BEGIN:STANDARD
TZOFFSETFROM:+0000
TZOFFSETTO:+0000
TZNAME:GMT
DTSTART:20220101T000000
END:STANDARD
END:VTIMEZONE
BEGIN:VEVENT
DTSTART;TZID=Africa/Abidjan:20231220T183000
DTEND;TZID=Africa/Abidjan:20231220T193000
DTSTAMP:20260419T141714
CREATED:20231117T184929Z
LAST-MODIFIED:20231117T184929Z
UID:25510-1703097000-1703100600@www.crossroads55112.org
SUMMARY:Councils Meet
DESCRIPTION:
URL:https://www.crossroads55112.org/eventsingle/councils-meet-2/
CATEGORIES:Meetings
END:VEVENT
BEGIN:VEVENT
DTSTART;TZID=Africa/Abidjan:20231220T183000
DTEND;TZID=Africa/Abidjan:20231220T193000
DTSTAMP:20260419T141714
CREATED:20231117T184930Z
LAST-MODIFIED:20231117T184930Z
UID:25511-1703097000-1703100600@www.crossroads55112.org
SUMMARY:A-Longest Night Service
DESCRIPTION:
URL:https://www.crossroads55112.org/eventsingle/a-longest-night-service/
CATEGORIES:Meetings
END:VEVENT
END:VCALENDAR