BEGIN:VCALENDAR
VERSION:2.0
PRODID:-//Crossroads Parish - ECPv6.15.18//NONSGML v1.0//EN
CALSCALE:GREGORIAN
METHOD:PUBLISH
X-WR-CALNAME:Crossroads Parish
X-ORIGINAL-URL:https://www.crossroads55112.org
X-WR-CALDESC:Events for Crossroads Parish
REFRESH-INTERVAL;VALUE=DURATION:PT1H
X-Robots-Tag:noindex
X-PUBLISHED-TTL:PT1H
BEGIN:VTIMEZONE
TZID:America/Chicago
BEGIN:DAYLIGHT
TZOFFSETFROM:-0600
TZOFFSETTO:-0500
TZNAME:CDT
DTSTART:20230312T080000
END:DAYLIGHT
BEGIN:STANDARD
TZOFFSETFROM:-0500
TZOFFSETTO:-0600
TZNAME:CST
DTSTART:20231105T070000
END:STANDARD
BEGIN:DAYLIGHT
TZOFFSETFROM:-0600
TZOFFSETTO:-0500
TZNAME:CDT
DTSTART:20240310T080000
END:DAYLIGHT
BEGIN:STANDARD
TZOFFSETFROM:-0500
TZOFFSETTO:-0600
TZNAME:CST
DTSTART:20241103T070000
END:STANDARD
BEGIN:DAYLIGHT
TZOFFSETFROM:-0600
TZOFFSETTO:-0500
TZNAME:CDT
DTSTART:20250309T080000
END:DAYLIGHT
BEGIN:STANDARD
TZOFFSETFROM:-0500
TZOFFSETTO:-0600
TZNAME:CST
DTSTART:20251102T070000
END:STANDARD
END:VTIMEZONE
BEGIN:VEVENT
DTSTART;TZID=America/Chicago:20240129T080000
DTEND;TZID=America/Chicago:20240129T090000
DTSTAMP:20260425T215015
CREATED:20241201T195852Z
LAST-MODIFIED:20241201T195852Z
UID:27469-1706515200-1706518800@www.crossroads55112.org
SUMMARY:A-Men's Bible Study
DESCRIPTION:At Atonement.
URL:https://www.crossroads55112.org/eventsingle/a-mens-bible-study-51/
END:VEVENT
BEGIN:VEVENT
DTSTART;TZID=America/Chicago:20240129T180000
DTEND;TZID=America/Chicago:20240129T193000
DTSTAMP:20260425T215015
CREATED:20241201T195855Z
LAST-MODIFIED:20241201T195855Z
UID:27470-1706551200-1706556600@www.crossroads55112.org
SUMMARY:A-Girl Scouts
DESCRIPTION:
URL:https://www.crossroads55112.org/eventsingle/a-girl-scouts-29/
END:VEVENT
END:VCALENDAR