BEGIN:VCALENDAR
VERSION:2.0
PRODID:-//Crossroads Parish - ECPv6.15.18//NONSGML v1.0//EN
CALSCALE:GREGORIAN
METHOD:PUBLISH
X-ORIGINAL-URL:https://www.crossroads55112.org
X-WR-CALDESC:Events for Crossroads Parish
REFRESH-INTERVAL;VALUE=DURATION:PT1H
X-Robots-Tag:noindex
X-PUBLISHED-TTL:PT1H
BEGIN:VTIMEZONE
TZID:America/Chicago
BEGIN:DAYLIGHT
TZOFFSETFROM:-0600
TZOFFSETTO:-0500
TZNAME:CDT
DTSTART:20230312T080000
END:DAYLIGHT
BEGIN:STANDARD
TZOFFSETFROM:-0500
TZOFFSETTO:-0600
TZNAME:CST
DTSTART:20231105T070000
END:STANDARD
BEGIN:DAYLIGHT
TZOFFSETFROM:-0600
TZOFFSETTO:-0500
TZNAME:CDT
DTSTART:20240310T080000
END:DAYLIGHT
BEGIN:STANDARD
TZOFFSETFROM:-0500
TZOFFSETTO:-0600
TZNAME:CST
DTSTART:20241103T070000
END:STANDARD
BEGIN:DAYLIGHT
TZOFFSETFROM:-0600
TZOFFSETTO:-0500
TZNAME:CDT
DTSTART:20250309T080000
END:DAYLIGHT
BEGIN:STANDARD
TZOFFSETFROM:-0500
TZOFFSETTO:-0600
TZNAME:CST
DTSTART:20251102T070000
END:STANDARD
END:VTIMEZONE
BEGIN:VEVENT
DTSTART;TZID=America/Chicago:20240228T173000
DTEND;TZID=America/Chicago:20240228T183000
DTSTAMP:20260420T052220
CREATED:20241201T200152Z
LAST-MODIFIED:20241201T200152Z
UID:27540-1709141400-1709145000@www.crossroads55112.org
SUMMARY:A-Soup Supper
DESCRIPTION:
URL:https://www.crossroads55112.org/eventsingle/a-soup-supper-6/
END:VEVENT
BEGIN:VEVENT
DTSTART;TZID=America/Chicago:20240228T183000
DTEND;TZID=America/Chicago:20240228T193000
DTSTAMP:20260420T052220
CREATED:20241201T200156Z
LAST-MODIFIED:20241201T200156Z
UID:27542-1709145000-1709148600@www.crossroads55112.org
SUMMARY:A-Lenten Service
DESCRIPTION:
URL:https://www.crossroads55112.org/eventsingle/a-lenten-service-2/
END:VEVENT
BEGIN:VEVENT
DTSTART;TZID=America/Chicago:20240228T190000
DTEND;TZID=America/Chicago:20240228T193000
DTSTAMP:20260420T052220
CREATED:20241201T200154Z
LAST-MODIFIED:20241201T200154Z
UID:27541-1709146800-1709148600@www.crossroads55112.org
SUMMARY:A-Yoga
DESCRIPTION:
URL:https://www.crossroads55112.org/eventsingle/a-yoga-2/
END:VEVENT
END:VCALENDAR