BEGIN:VCALENDAR
VERSION:2.0
PRODID:-//Crossroads Parish - ECPv6.15.18//NONSGML v1.0//EN
CALSCALE:GREGORIAN
METHOD:PUBLISH
X-ORIGINAL-URL:https://www.crossroads55112.org
X-WR-CALDESC:Events for Crossroads Parish
REFRESH-INTERVAL;VALUE=DURATION:PT1H
X-Robots-Tag:noindex
X-PUBLISHED-TTL:PT1H
BEGIN:VTIMEZONE
TZID:America/Chicago
BEGIN:DAYLIGHT
TZOFFSETFROM:-0600
TZOFFSETTO:-0500
TZNAME:CDT
DTSTART:20230312T080000
END:DAYLIGHT
BEGIN:STANDARD
TZOFFSETFROM:-0500
TZOFFSETTO:-0600
TZNAME:CST
DTSTART:20231105T070000
END:STANDARD
BEGIN:DAYLIGHT
TZOFFSETFROM:-0600
TZOFFSETTO:-0500
TZNAME:CDT
DTSTART:20240310T080000
END:DAYLIGHT
BEGIN:STANDARD
TZOFFSETFROM:-0500
TZOFFSETTO:-0600
TZNAME:CST
DTSTART:20241103T070000
END:STANDARD
BEGIN:DAYLIGHT
TZOFFSETFROM:-0600
TZOFFSETTO:-0500
TZNAME:CDT
DTSTART:20250309T080000
END:DAYLIGHT
BEGIN:STANDARD
TZOFFSETFROM:-0500
TZOFFSETTO:-0600
TZNAME:CST
DTSTART:20251102T070000
END:STANDARD
END:VTIMEZONE
BEGIN:VEVENT
DTSTART;TZID=America/Chicago:20240305T110000
DTEND;TZID=America/Chicago:20240305T120000
DTSTAMP:20260423T233123
CREATED:20241201T200421Z
LAST-MODIFIED:20241201T200421Z
UID:27556-1709636400-1709640000@www.crossroads55112.org
SUMMARY:Mall Walking
DESCRIPTION:
URL:https://www.crossroads55112.org/eventsingle/mall-walking-3/
END:VEVENT
BEGIN:VEVENT
DTSTART;TZID=America/Chicago:20240305T180000
DTEND;TZID=America/Chicago:20240305T190000
DTSTAMP:20260423T233123
CREATED:20241201T200424Z
LAST-MODIFIED:20241201T200424Z
UID:27557-1709661600-1709665200@www.crossroads55112.org
SUMMARY:Puzzles
DESCRIPTION:
URL:https://www.crossroads55112.org/eventsingle/puzzles-3/
END:VEVENT
BEGIN:VEVENT
DTSTART;TZID=America/Chicago:20240305T180000
DTEND;TZID=America/Chicago:20240305T193000
DTSTAMP:20260423T233123
CREATED:20241201T200426Z
LAST-MODIFIED:20241201T200426Z
UID:27558-1709661600-1709667000@www.crossroads55112.org
SUMMARY:C-Girl Scouts
DESCRIPTION:Bryan Bloomquist \nbmbloomquist@gmail.com 
URL:https://www.crossroads55112.org/eventsingle/c-girl-scouts-35/
END:VEVENT
BEGIN:VEVENT
DTSTART;TZID=America/Chicago:20240305T183000
DTEND;TZID=America/Chicago:20240305T200000
DTSTAMP:20260423T233123
CREATED:20241201T200429Z
LAST-MODIFIED:20241201T200429Z
UID:27559-1709663400-1709668800@www.crossroads55112.org
SUMMARY:C-Boy Scouts
DESCRIPTION:
URL:https://www.crossroads55112.org/eventsingle/c-boy-scouts-16/
END:VEVENT
END:VCALENDAR