BEGIN:VCALENDAR
VERSION:2.0
PRODID:-//Crossroads Parish - ECPv6.15.18//NONSGML v1.0//EN
CALSCALE:GREGORIAN
METHOD:PUBLISH
X-ORIGINAL-URL:https://www.crossroads55112.org
X-WR-CALDESC:Events for Crossroads Parish
REFRESH-INTERVAL;VALUE=DURATION:PT1H
X-Robots-Tag:noindex
X-PUBLISHED-TTL:PT1H
BEGIN:VTIMEZONE
TZID:America/Chicago
BEGIN:DAYLIGHT
TZOFFSETFROM:-0600
TZOFFSETTO:-0500
TZNAME:CDT
DTSTART:20230312T080000
END:DAYLIGHT
BEGIN:STANDARD
TZOFFSETFROM:-0500
TZOFFSETTO:-0600
TZNAME:CST
DTSTART:20231105T070000
END:STANDARD
BEGIN:DAYLIGHT
TZOFFSETFROM:-0600
TZOFFSETTO:-0500
TZNAME:CDT
DTSTART:20240310T080000
END:DAYLIGHT
BEGIN:STANDARD
TZOFFSETFROM:-0500
TZOFFSETTO:-0600
TZNAME:CST
DTSTART:20241103T070000
END:STANDARD
BEGIN:DAYLIGHT
TZOFFSETFROM:-0600
TZOFFSETTO:-0500
TZNAME:CDT
DTSTART:20250309T080000
END:DAYLIGHT
BEGIN:STANDARD
TZOFFSETFROM:-0500
TZOFFSETTO:-0600
TZNAME:CST
DTSTART:20251102T070000
END:STANDARD
END:VTIMEZONE
BEGIN:VEVENT
DTSTART;TZID=America/Chicago:20240322T093000
DTEND;TZID=America/Chicago:20240322T140000
DTSTAMP:20260423T052357
CREATED:20241201T200703Z
LAST-MODIFIED:20241201T200703Z
UID:27647-1711099800-1711116000@www.crossroads55112.org
SUMMARY:C-New Birth
DESCRIPTION:funeral
URL:https://www.crossroads55112.org/eventsingle/c-new-birth/
END:VEVENT
BEGIN:VEVENT
DTSTART;TZID=America/Chicago:20240322T161500
DTEND;TZID=America/Chicago:20240322T171500
DTSTAMP:20260423T052357
CREATED:20241201T200708Z
LAST-MODIFIED:20241201T200708Z
UID:27651-1711124100-1711127700@www.crossroads55112.org
SUMMARY:A-Charitable Giving
DESCRIPTION:At Bonnie’s home
URL:https://www.crossroads55112.org/eventsingle/a-charitable-giving-7/
END:VEVENT
BEGIN:VEVENT
DTSTART;TZID=America/Chicago:20240322T170000
DTEND;TZID=America/Chicago:20240322T190000
DTSTAMP:20260423T052357
CREATED:20241201T200705Z
LAST-MODIFIED:20241201T200705Z
UID:27649-1711126800-1711134000@www.crossroads55112.org
SUMMARY:C-New Birth Church
DESCRIPTION:
URL:https://www.crossroads55112.org/eventsingle/c-new-birth-church-191/
END:VEVENT
BEGIN:VEVENT
DTSTART;TZID=America/Chicago:20240322T183000
DTEND;TZID=America/Chicago:20240322T193000
DTSTAMP:20260423T052357
CREATED:20241201T200711Z
LAST-MODIFIED:20241201T200711Z
UID:27653-1711132200-1711135800@www.crossroads55112.org
SUMMARY:Faith and a Pint
DESCRIPTION:
URL:https://www.crossroads55112.org/eventsingle/faith-and-a-pint-21/
END:VEVENT
END:VCALENDAR