BEGIN:VCALENDAR
VERSION:2.0
PRODID:-//Crossroads Parish - ECPv6.15.18//NONSGML v1.0//EN
CALSCALE:GREGORIAN
METHOD:PUBLISH
X-ORIGINAL-URL:https://www.crossroads55112.org
X-WR-CALDESC:Events for Crossroads Parish
REFRESH-INTERVAL;VALUE=DURATION:PT1H
X-Robots-Tag:noindex
X-PUBLISHED-TTL:PT1H
BEGIN:VTIMEZONE
TZID:America/Chicago
BEGIN:DAYLIGHT
TZOFFSETFROM:-0600
TZOFFSETTO:-0500
TZNAME:CDT
DTSTART:20230312T080000
END:DAYLIGHT
BEGIN:STANDARD
TZOFFSETFROM:-0500
TZOFFSETTO:-0600
TZNAME:CST
DTSTART:20231105T070000
END:STANDARD
BEGIN:DAYLIGHT
TZOFFSETFROM:-0600
TZOFFSETTO:-0500
TZNAME:CDT
DTSTART:20240310T080000
END:DAYLIGHT
BEGIN:STANDARD
TZOFFSETFROM:-0500
TZOFFSETTO:-0600
TZNAME:CST
DTSTART:20241103T070000
END:STANDARD
BEGIN:DAYLIGHT
TZOFFSETFROM:-0600
TZOFFSETTO:-0500
TZNAME:CDT
DTSTART:20250309T080000
END:DAYLIGHT
BEGIN:STANDARD
TZOFFSETFROM:-0500
TZOFFSETTO:-0600
TZNAME:CST
DTSTART:20251102T070000
END:STANDARD
END:VTIMEZONE
BEGIN:VEVENT
DTSTART;TZID=America/Chicago:20240323T090000
DTEND;TZID=America/Chicago:20240323T150000
DTSTAMP:20260425T061700
CREATED:20241201T200713Z
LAST-MODIFIED:20241201T200713Z
UID:27655-1711184400-1711206000@www.crossroads55112.org
SUMMARY:A-Mount of Blessing Church
DESCRIPTION:
URL:https://www.crossroads55112.org/eventsingle/a-mount-of-blessing-church-109/
END:VEVENT
BEGIN:VEVENT
DTSTART;TZID=America/Chicago:20240323T090000
DTEND;TZID=America/Chicago:20240323T170000
DTSTAMP:20260425T061700
CREATED:20241201T200716Z
LAST-MODIFIED:20241201T200716Z
UID:27656-1711184400-1711213200@www.crossroads55112.org
SUMMARY:C-New Birth Church
DESCRIPTION:
URL:https://www.crossroads55112.org/eventsingle/c-new-birth-church-192/
END:VEVENT
BEGIN:VEVENT
DTSTART;TZID=America/Chicago:20240323T100000
DTEND;TZID=America/Chicago:20240323T110000
DTSTAMP:20260425T061700
CREATED:20241201T200719Z
LAST-MODIFIED:20241201T200719Z
UID:27657-1711188000-1711191600@www.crossroads55112.org
SUMMARY:A-Winter Wonderland
DESCRIPTION:
URL:https://www.crossroads55112.org/eventsingle/a-winter-wonderland-6/
END:VEVENT
BEGIN:VEVENT
DTSTART;TZID=America/Chicago:20240323T150000
DTEND;TZID=America/Chicago:20240323T160000
DTSTAMP:20260425T061700
CREATED:20241201T200721Z
LAST-MODIFIED:20241201T200721Z
UID:27659-1711206000-1711209600@www.crossroads55112.org
SUMMARY:C-Easter Egg Hunt
DESCRIPTION:
URL:https://www.crossroads55112.org/eventsingle/c-easter-egg-hunt/
END:VEVENT
END:VCALENDAR