BEGIN:VCALENDAR
VERSION:2.0
PRODID:-//Crossroads Parish - ECPv6.15.18//NONSGML v1.0//EN
CALSCALE:GREGORIAN
METHOD:PUBLISH
X-WR-CALNAME:Crossroads Parish
X-ORIGINAL-URL:https://www.crossroads55112.org
X-WR-CALDESC:Events for Crossroads Parish
REFRESH-INTERVAL;VALUE=DURATION:PT1H
X-Robots-Tag:noindex
X-PUBLISHED-TTL:PT1H
BEGIN:VTIMEZONE
TZID:UTC
BEGIN:STANDARD
TZOFFSETFROM:+0000
TZOFFSETTO:+0000
TZNAME:UTC
DTSTART:20230101T000000
END:STANDARD
END:VTIMEZONE
BEGIN:VTIMEZONE
TZID:America/Chicago
BEGIN:DAYLIGHT
TZOFFSETFROM:-0600
TZOFFSETTO:-0500
TZNAME:CDT
DTSTART:20230312T080000
END:DAYLIGHT
BEGIN:STANDARD
TZOFFSETFROM:-0500
TZOFFSETTO:-0600
TZNAME:CST
DTSTART:20231105T070000
END:STANDARD
BEGIN:DAYLIGHT
TZOFFSETFROM:-0600
TZOFFSETTO:-0500
TZNAME:CDT
DTSTART:20240310T080000
END:DAYLIGHT
BEGIN:STANDARD
TZOFFSETFROM:-0500
TZOFFSETTO:-0600
TZNAME:CST
DTSTART:20241103T070000
END:STANDARD
BEGIN:DAYLIGHT
TZOFFSETFROM:-0600
TZOFFSETTO:-0500
TZNAME:CDT
DTSTART:20250309T080000
END:DAYLIGHT
BEGIN:STANDARD
TZOFFSETFROM:-0500
TZOFFSETTO:-0600
TZNAME:CST
DTSTART:20251102T070000
END:STANDARD
END:VTIMEZONE
BEGIN:VEVENT
DTSTART;VALUE=DATE:20240324
DTEND;VALUE=DATE:20240325
DTSTAMP:20260425T122955
CREATED:20241201T200724Z
LAST-MODIFIED:20241201T200724Z
UID:27662-1711238400-1711324799@www.crossroads55112.org
SUMMARY:Passion Sunday
DESCRIPTION:
URL:https://www.crossroads55112.org/eventsingle/passion-sunday/
END:VEVENT
BEGIN:VEVENT
DTSTART;TZID=America/Chicago:20240324T083000
DTEND;TZID=America/Chicago:20240324T093000
DTSTAMP:20260425T122955
CREATED:20241201T200727Z
LAST-MODIFIED:20241201T200727Z
UID:27664-1711269000-1711272600@www.crossroads55112.org
SUMMARY:C-Worship
DESCRIPTION:
URL:https://www.crossroads55112.org/eventsingle/c-worship-23/
END:VEVENT
BEGIN:VEVENT
DTSTART;TZID=America/Chicago:20240324T093000
DTEND;TZID=America/Chicago:20240324T103000
DTSTAMP:20260425T122955
CREATED:20241201T200729Z
LAST-MODIFIED:20241201T200729Z
UID:27666-1711272600-1711276200@www.crossroads55112.org
SUMMARY:C-Sunday School/Youth
DESCRIPTION:
URL:https://www.crossroads55112.org/eventsingle/c-sunday-school-youth-46/
END:VEVENT
BEGIN:VEVENT
DTSTART;TZID=America/Chicago:20240324T104500
DTEND;TZID=America/Chicago:20240324T114500
DTSTAMP:20260425T122955
CREATED:20241201T200732Z
LAST-MODIFIED:20241201T200732Z
UID:27667-1711277100-1711280700@www.crossroads55112.org
SUMMARY:A-Worship
DESCRIPTION:
URL:https://www.crossroads55112.org/eventsingle/a-worship-23/
END:VEVENT
BEGIN:VEVENT
DTSTART;TZID=America/Chicago:20240324T123000
DTEND;TZID=America/Chicago:20240324T143000
DTSTAMP:20260425T122955
CREATED:20241201T200735Z
LAST-MODIFIED:20241201T200735Z
UID:27670-1711283400-1711290600@www.crossroads55112.org
SUMMARY:A-Faith Comm Church
DESCRIPTION:
URL:https://www.crossroads55112.org/eventsingle/a-faith-comm-church-97/
END:VEVENT
END:VCALENDAR