BEGIN:VCALENDAR
VERSION:2.0
PRODID:-//Crossroads Parish - ECPv6.15.18//NONSGML v1.0//EN
CALSCALE:GREGORIAN
METHOD:PUBLISH
X-ORIGINAL-URL:https://www.crossroads55112.org
X-WR-CALDESC:Events for Crossroads Parish
REFRESH-INTERVAL;VALUE=DURATION:PT1H
X-Robots-Tag:noindex
X-PUBLISHED-TTL:PT1H
BEGIN:VTIMEZONE
TZID:America/Chicago
BEGIN:DAYLIGHT
TZOFFSETFROM:-0600
TZOFFSETTO:-0500
TZNAME:CDT
DTSTART:20230312T080000
END:DAYLIGHT
BEGIN:STANDARD
TZOFFSETFROM:-0500
TZOFFSETTO:-0600
TZNAME:CST
DTSTART:20231105T070000
END:STANDARD
BEGIN:DAYLIGHT
TZOFFSETFROM:-0600
TZOFFSETTO:-0500
TZNAME:CDT
DTSTART:20240310T080000
END:DAYLIGHT
BEGIN:STANDARD
TZOFFSETFROM:-0500
TZOFFSETTO:-0600
TZNAME:CST
DTSTART:20241103T070000
END:STANDARD
BEGIN:DAYLIGHT
TZOFFSETFROM:-0600
TZOFFSETTO:-0500
TZNAME:CDT
DTSTART:20250309T080000
END:DAYLIGHT
BEGIN:STANDARD
TZOFFSETFROM:-0500
TZOFFSETTO:-0600
TZNAME:CST
DTSTART:20251102T070000
END:STANDARD
END:VTIMEZONE
BEGIN:VEVENT
DTSTART;TZID=America/Chicago:20240325T080000
DTEND;TZID=America/Chicago:20240325T090000
DTSTAMP:20260421T205956
CREATED:20241201T200738Z
LAST-MODIFIED:20241201T200738Z
UID:27672-1711353600-1711357200@www.crossroads55112.org
SUMMARY:A-Bible Study
DESCRIPTION:At Atonement.
URL:https://www.crossroads55112.org/eventsingle/a-bible-study-40/
END:VEVENT
BEGIN:VEVENT
DTSTART;TZID=America/Chicago:20240325T080000
DTEND;TZID=America/Chicago:20240325T170000
DTSTAMP:20260421T205956
CREATED:20240320T173656Z
LAST-MODIFIED:20240320T173656Z
UID:25820-1711353600-1711386000@www.crossroads55112.org
SUMMARY:Worship Test
DESCRIPTION:
URL:https://www.crossroads55112.org/eventsingle/worship-test/
LOCATION:Cross of Glory Lutheran Church\, 5472 Adams Street\, Mounds View\, MN\, 55112\, United States
CATEGORIES:Worship
END:VEVENT
BEGIN:VEVENT
DTSTART;TZID=America/Chicago:20240325T130000
DTEND;TZID=America/Chicago:20240325T150000
DTSTAMP:20260421T205956
CREATED:20241201T200741Z
LAST-MODIFIED:20241201T200741Z
UID:27674-1711371600-1711378800@www.crossroads55112.org
SUMMARY:A-Kitchen Kutups
DESCRIPTION:
URL:https://www.crossroads55112.org/eventsingle/a-kitchen-kutups-65/
END:VEVENT
BEGIN:VEVENT
DTSTART;TZID=America/Chicago:20240325T180000
DTEND;TZID=America/Chicago:20240325T193000
DTSTAMP:20260421T205956
CREATED:20241201T200743Z
LAST-MODIFIED:20241201T200743Z
UID:27676-1711389600-1711395000@www.crossroads55112.org
SUMMARY:A-Girl Scouts
DESCRIPTION:
URL:https://www.crossroads55112.org/eventsingle/a-girl-scouts-33/
END:VEVENT
END:VCALENDAR