BEGIN:VCALENDAR
VERSION:2.0
PRODID:-//Crossroads Parish - ECPv6.15.18//NONSGML v1.0//EN
CALSCALE:GREGORIAN
METHOD:PUBLISH
X-ORIGINAL-URL:https://www.crossroads55112.org
X-WR-CALDESC:Events for Crossroads Parish
REFRESH-INTERVAL;VALUE=DURATION:PT1H
X-Robots-Tag:noindex
X-PUBLISHED-TTL:PT1H
BEGIN:VTIMEZONE
TZID:Africa/Abidjan
BEGIN:STANDARD
TZOFFSETFROM:+0000
TZOFFSETTO:+0000
TZNAME:GMT
DTSTART:20230101T000000
END:STANDARD
END:VTIMEZONE
BEGIN:VEVENT
DTSTART;TZID=Africa/Abidjan:20240403T100000
DTEND;TZID=Africa/Abidjan:20240403T110000
DTSTAMP:20260425T091510
CREATED:20240424T014042Z
LAST-MODIFIED:20240424T014042Z
UID:26001-1712138400-1712142000@www.crossroads55112.org
SUMMARY:C-Prayer Shawls
DESCRIPTION:
URL:https://www.crossroads55112.org/eventsingle/c-prayer-shawls-13/
END:VEVENT
END:VCALENDAR