BEGIN:VCALENDAR
VERSION:2.0
PRODID:-//Crossroads Parish - ECPv6.15.18//NONSGML v1.0//EN
CALSCALE:GREGORIAN
METHOD:PUBLISH
X-ORIGINAL-URL:https://www.crossroads55112.org
X-WR-CALDESC:Events for Crossroads Parish
REFRESH-INTERVAL;VALUE=DURATION:PT1H
X-Robots-Tag:noindex
X-PUBLISHED-TTL:PT1H
BEGIN:VTIMEZONE
TZID:Africa/Abidjan
BEGIN:STANDARD
TZOFFSETFROM:+0000
TZOFFSETTO:+0000
TZNAME:GMT
DTSTART:20230101T000000
END:STANDARD
END:VTIMEZONE
BEGIN:VEVENT
DTSTART;VALUE=DATE:20240407
DTEND;VALUE=DATE:20240408
DTSTAMP:20260425T190840
CREATED:20240424T014054Z
LAST-MODIFIED:20240424T014054Z
UID:26006-1712448000-1712534399@www.crossroads55112.org
SUMMARY:C-Confirmation Sunday
DESCRIPTION:
URL:https://www.crossroads55112.org/eventsingle/c-confirmation-sunday/
END:VEVENT
BEGIN:VEVENT
DTSTART;TZID=Africa/Abidjan:20240407T083000
DTEND;TZID=Africa/Abidjan:20240407T093000
DTSTAMP:20260425T190840
CREATED:20240424T015826Z
LAST-MODIFIED:20240424T020242Z
UID:26108-1712478600-1712482200@www.crossroads55112.org
SUMMARY:C-Worship
DESCRIPTION:
URL:https://www.crossroads55112.org/eventsingle/c-worship-8/
CATEGORIES:Worship
END:VEVENT
BEGIN:VEVENT
DTSTART;TZID=Africa/Abidjan:20240407T093000
DTEND;TZID=Africa/Abidjan:20240407T103000
DTSTAMP:20260425T190840
CREATED:20240424T014059Z
LAST-MODIFIED:20240424T014059Z
UID:26008-1712482200-1712485800@www.crossroads55112.org
SUMMARY:C-Sunday School/Youth
DESCRIPTION:
URL:https://www.crossroads55112.org/eventsingle/c-sunday-school-youth-18/
END:VEVENT
BEGIN:VEVENT
DTSTART;TZID=Africa/Abidjan:20240407T104500
DTEND;TZID=Africa/Abidjan:20240407T114500
DTSTAMP:20260425T190840
CREATED:20240424T015829Z
LAST-MODIFIED:20240424T020239Z
UID:26109-1712486700-1712490300@www.crossroads55112.org
SUMMARY:A-Worship
DESCRIPTION:
URL:https://www.crossroads55112.org/eventsingle/a-worship-8/
CATEGORIES:Worship
END:VEVENT
BEGIN:VEVENT
DTSTART;TZID=Africa/Abidjan:20240407T123000
DTEND;TZID=Africa/Abidjan:20240407T143000
DTSTAMP:20260425T190840
CREATED:20240424T014103Z
LAST-MODIFIED:20240424T014103Z
UID:26010-1712493000-1712500200@www.crossroads55112.org
SUMMARY:A-Faith Comm Church
DESCRIPTION:
URL:https://www.crossroads55112.org/eventsingle/a-faith-comm-church-53/
END:VEVENT
END:VCALENDAR