BEGIN:VCALENDAR
VERSION:2.0
PRODID:-//Crossroads Parish - ECPv6.15.18//NONSGML v1.0//EN
CALSCALE:GREGORIAN
METHOD:PUBLISH
X-WR-CALNAME:Crossroads Parish
X-ORIGINAL-URL:https://www.crossroads55112.org
X-WR-CALDESC:Events for Crossroads Parish
REFRESH-INTERVAL;VALUE=DURATION:PT1H
X-Robots-Tag:noindex
X-PUBLISHED-TTL:PT1H
BEGIN:VTIMEZONE
TZID:Africa/Abidjan
BEGIN:STANDARD
TZOFFSETFROM:+0000
TZOFFSETTO:+0000
TZNAME:GMT
DTSTART:20230101T000000
END:STANDARD
END:VTIMEZONE
BEGIN:VEVENT
DTSTART;TZID=Africa/Abidjan:20240415T080000
DTEND;TZID=Africa/Abidjan:20240415T090000
DTSTAMP:20260425T190221
CREATED:20240424T014145Z
LAST-MODIFIED:20240424T014145Z
UID:26029-1713168000-1713171600@www.crossroads55112.org
SUMMARY:A-Bible Study
DESCRIPTION:At Atonement.
URL:https://www.crossroads55112.org/eventsingle/a-bible-study-3/
END:VEVENT
BEGIN:VEVENT
DTSTART;TZID=Africa/Abidjan:20240415T130000
DTEND;TZID=Africa/Abidjan:20240415T150000
DTSTAMP:20260425T190221
CREATED:20240424T014147Z
LAST-MODIFIED:20240424T014147Z
UID:26030-1713186000-1713193200@www.crossroads55112.org
SUMMARY:A-Kitchen Kutups
DESCRIPTION:
URL:https://www.crossroads55112.org/eventsingle/a-kitchen-kutups-42/
END:VEVENT
END:VCALENDAR