BEGIN:VCALENDAR
VERSION:2.0
PRODID:-//Crossroads Parish - ECPv6.15.18//NONSGML v1.0//EN
CALSCALE:GREGORIAN
METHOD:PUBLISH
X-ORIGINAL-URL:https://www.crossroads55112.org
X-WR-CALDESC:Events for Crossroads Parish
REFRESH-INTERVAL;VALUE=DURATION:PT1H
X-Robots-Tag:noindex
X-PUBLISHED-TTL:PT1H
BEGIN:VTIMEZONE
TZID:Africa/Abidjan
BEGIN:STANDARD
TZOFFSETFROM:+0000
TZOFFSETTO:+0000
TZNAME:GMT
DTSTART:20230101T000000
END:STANDARD
END:VTIMEZONE
BEGIN:VEVENT
DTSTART;TZID=Africa/Abidjan:20240416T180000
DTEND;TZID=Africa/Abidjan:20240416T193000
DTSTAMP:20260422T192049
CREATED:20240424T014149Z
LAST-MODIFIED:20240424T014149Z
UID:26031-1713290400-1713295800@www.crossroads55112.org
SUMMARY:C-Girl Scouts
DESCRIPTION:Bryan Bloomquist \nbmbloomquist@gmail.com  \n612-226-8339 \n1st and 3rd Tuesday of each month from 6-7:30
URL:https://www.crossroads55112.org/eventsingle/c-girl-scouts-25/
END:VEVENT
BEGIN:VEVENT
DTSTART;TZID=Africa/Abidjan:20240416T183000
DTEND;TZID=Africa/Abidjan:20240416T200000
DTSTAMP:20260422T192049
CREATED:20240424T014151Z
LAST-MODIFIED:20240424T014151Z
UID:26032-1713292200-1713297600@www.crossroads55112.org
SUMMARY:C-Boy Scouts
DESCRIPTION:
URL:https://www.crossroads55112.org/eventsingle/c-boy-scouts-2/
END:VEVENT
BEGIN:VEVENT
DTSTART;TZID=Africa/Abidjan:20240416T183000
DTEND;TZID=Africa/Abidjan:20240416T200000
DTSTAMP:20260422T192049
CREATED:20240424T014153Z
LAST-MODIFIED:20240424T014153Z
UID:26033-1713292200-1713297600@www.crossroads55112.org
SUMMARY:A-Councils Meet
DESCRIPTION:
URL:https://www.crossroads55112.org/eventsingle/a-councils-meet-3/
END:VEVENT
END:VCALENDAR