BEGIN:VCALENDAR
VERSION:2.0
PRODID:-//Crossroads Parish - ECPv6.15.18//NONSGML v1.0//EN
CALSCALE:GREGORIAN
METHOD:PUBLISH
X-ORIGINAL-URL:https://www.crossroads55112.org
X-WR-CALDESC:Events for Crossroads Parish
REFRESH-INTERVAL;VALUE=DURATION:PT1H
X-Robots-Tag:noindex
X-PUBLISHED-TTL:PT1H
BEGIN:VTIMEZONE
TZID:Africa/Abidjan
BEGIN:STANDARD
TZOFFSETFROM:+0000
TZOFFSETTO:+0000
TZNAME:GMT
DTSTART:20230101T000000
END:STANDARD
END:VTIMEZONE
BEGIN:VEVENT
DTSTART;TZID=Africa/Abidjan:20240418T130000
DTEND;TZID=Africa/Abidjan:20240418T140000
DTSTAMP:20260423T175747
CREATED:20240424T014202Z
LAST-MODIFIED:20240424T014202Z
UID:26037-1713445200-1713448800@www.crossroads55112.org
SUMMARY:A-Game Day
DESCRIPTION:
URL:https://www.crossroads55112.org/eventsingle/a-game-day-53/
END:VEVENT
BEGIN:VEVENT
DTSTART;TZID=Africa/Abidjan:20240418T190000
DTEND;TZID=Africa/Abidjan:20240418T203000
DTSTAMP:20260423T175747
CREATED:20240424T014204Z
LAST-MODIFIED:20240424T014204Z
UID:26038-1713466800-1713472200@www.crossroads55112.org
SUMMARY:FMSC
DESCRIPTION:
URL:https://www.crossroads55112.org/eventsingle/fmsc/
END:VEVENT
END:VCALENDAR