BEGIN:VCALENDAR
VERSION:2.0
PRODID:-//Crossroads Parish - ECPv6.15.18//NONSGML v1.0//EN
CALSCALE:GREGORIAN
METHOD:PUBLISH
X-WR-CALNAME:Crossroads Parish
X-ORIGINAL-URL:https://www.crossroads55112.org
X-WR-CALDESC:Events for Crossroads Parish
REFRESH-INTERVAL;VALUE=DURATION:PT1H
X-Robots-Tag:noindex
X-PUBLISHED-TTL:PT1H
BEGIN:VTIMEZONE
TZID:Africa/Abidjan
BEGIN:STANDARD
TZOFFSETFROM:+0000
TZOFFSETTO:+0000
TZNAME:GMT
DTSTART:20230101T000000
END:STANDARD
END:VTIMEZONE
BEGIN:VEVENT
DTSTART;TZID=Africa/Abidjan:20240421T083000
DTEND;TZID=Africa/Abidjan:20240421T093000
DTSTAMP:20260422T012441
CREATED:20240424T015835Z
LAST-MODIFIED:20240424T020232Z
UID:26112-1713688200-1713691800@www.crossroads55112.org
SUMMARY:C-Worship
DESCRIPTION:
URL:https://www.crossroads55112.org/eventsingle/c-worship-11/
CATEGORIES:Worship
END:VEVENT
BEGIN:VEVENT
DTSTART;TZID=Africa/Abidjan:20240421T093000
DTEND;TZID=Africa/Abidjan:20240421T103000
DTSTAMP:20260422T012441
CREATED:20240424T014215Z
LAST-MODIFIED:20240424T014215Z
UID:26043-1713691800-1713695400@www.crossroads55112.org
SUMMARY:C-Sunday School/Youth
DESCRIPTION:
URL:https://www.crossroads55112.org/eventsingle/c-sunday-school-youth-20/
END:VEVENT
BEGIN:VEVENT
DTSTART;TZID=Africa/Abidjan:20240421T104500
DTEND;TZID=Africa/Abidjan:20240421T114500
DTSTAMP:20260422T012441
CREATED:20240424T015837Z
LAST-MODIFIED:20240424T020230Z
UID:26113-1713696300-1713699900@www.crossroads55112.org
SUMMARY:A-Worship
DESCRIPTION:
URL:https://www.crossroads55112.org/eventsingle/a-worship-10/
CATEGORIES:Worship
END:VEVENT
BEGIN:VEVENT
DTSTART;TZID=Africa/Abidjan:20240421T123000
DTEND;TZID=Africa/Abidjan:20240421T143000
DTSTAMP:20260422T012441
CREATED:20240424T014219Z
LAST-MODIFIED:20240424T014219Z
UID:26045-1713702600-1713709800@www.crossroads55112.org
SUMMARY:A-Faith Comm Church
DESCRIPTION:
URL:https://www.crossroads55112.org/eventsingle/a-faith-comm-church-55/
END:VEVENT
END:VCALENDAR