BEGIN:VCALENDAR
VERSION:2.0
PRODID:-//Crossroads Parish - ECPv6.15.18//NONSGML v1.0//EN
CALSCALE:GREGORIAN
METHOD:PUBLISH
X-ORIGINAL-URL:https://www.crossroads55112.org
X-WR-CALDESC:Events for Crossroads Parish
REFRESH-INTERVAL;VALUE=DURATION:PT1H
X-Robots-Tag:noindex
X-PUBLISHED-TTL:PT1H
BEGIN:VTIMEZONE
TZID:Africa/Abidjan
BEGIN:STANDARD
TZOFFSETFROM:+0000
TZOFFSETTO:+0000
TZNAME:GMT
DTSTART:20230101T000000
END:STANDARD
END:VTIMEZONE
BEGIN:VEVENT
DTSTART;TZID=Africa/Abidjan:20240422T080000
DTEND;TZID=Africa/Abidjan:20240422T090000
DTSTAMP:20260425T091302
CREATED:20240424T014222Z
LAST-MODIFIED:20240424T014222Z
UID:26046-1713772800-1713776400@www.crossroads55112.org
SUMMARY:A-Bible Study
DESCRIPTION:At Atonement.
URL:https://www.crossroads55112.org/eventsingle/a-bible-study-4/
END:VEVENT
BEGIN:VEVENT
DTSTART;TZID=Africa/Abidjan:20240422T130000
DTEND;TZID=Africa/Abidjan:20240422T150000
DTSTAMP:20260425T091302
CREATED:20240424T014224Z
LAST-MODIFIED:20240424T014224Z
UID:26047-1713790800-1713798000@www.crossroads55112.org
SUMMARY:A-Kitchen Kutups
DESCRIPTION:
URL:https://www.crossroads55112.org/eventsingle/a-kitchen-kutups-43/
END:VEVENT
BEGIN:VEVENT
DTSTART;TZID=Africa/Abidjan:20240422T180000
DTEND;TZID=Africa/Abidjan:20240422T193000
DTSTAMP:20260425T091302
CREATED:20240424T014226Z
LAST-MODIFIED:20240424T014226Z
UID:26048-1713808800-1713814200@www.crossroads55112.org
SUMMARY:A-Girl Scouts
DESCRIPTION:
URL:https://www.crossroads55112.org/eventsingle/a-girl-scouts-23/
END:VEVENT
END:VCALENDAR