BEGIN:VCALENDAR
VERSION:2.0
PRODID:-//Crossroads Parish - ECPv6.15.18//NONSGML v1.0//EN
CALSCALE:GREGORIAN
METHOD:PUBLISH
X-WR-CALNAME:Crossroads Parish
X-ORIGINAL-URL:https://www.crossroads55112.org
X-WR-CALDESC:Events for Crossroads Parish
REFRESH-INTERVAL;VALUE=DURATION:PT1H
X-Robots-Tag:noindex
X-PUBLISHED-TTL:PT1H
BEGIN:VTIMEZONE
TZID:Africa/Abidjan
BEGIN:STANDARD
TZOFFSETFROM:+0000
TZOFFSETTO:+0000
TZNAME:GMT
DTSTART:20230101T000000
END:STANDARD
END:VTIMEZONE
BEGIN:VTIMEZONE
TZID:America/Chicago
BEGIN:DAYLIGHT
TZOFFSETFROM:-0600
TZOFFSETTO:-0500
TZNAME:CDT
DTSTART:20230312T080000
END:DAYLIGHT
BEGIN:STANDARD
TZOFFSETFROM:-0500
TZOFFSETTO:-0600
TZNAME:CST
DTSTART:20231105T070000
END:STANDARD
BEGIN:DAYLIGHT
TZOFFSETFROM:-0600
TZOFFSETTO:-0500
TZNAME:CDT
DTSTART:20240310T080000
END:DAYLIGHT
BEGIN:STANDARD
TZOFFSETFROM:-0500
TZOFFSETTO:-0600
TZNAME:CST
DTSTART:20241103T070000
END:STANDARD
BEGIN:DAYLIGHT
TZOFFSETFROM:-0600
TZOFFSETTO:-0500
TZNAME:CDT
DTSTART:20250309T080000
END:DAYLIGHT
BEGIN:STANDARD
TZOFFSETFROM:-0500
TZOFFSETTO:-0600
TZNAME:CST
DTSTART:20251102T070000
END:STANDARD
END:VTIMEZONE
BEGIN:VEVENT
DTSTART;VALUE=DATE:20240428
DTEND;VALUE=DATE:20240429
DTSTAMP:20260425T185805
CREATED:20240424T014327Z
LAST-MODIFIED:20240424T014327Z
UID:26059-1714262400-1714348799@www.crossroads55112.org
SUMMARY:Compassion Sunday
DESCRIPTION:
URL:https://www.crossroads55112.org/eventsingle/compassion-sunday/
END:VEVENT
BEGIN:VEVENT
DTSTART;TZID=Africa/Abidjan:20240428T083000
DTEND;TZID=Africa/Abidjan:20240428T093000
DTSTAMP:20260425T185805
CREATED:20240424T015840Z
LAST-MODIFIED:20240424T023158Z
UID:26114-1714293000-1714296600@www.crossroads55112.org
SUMMARY:Worship @ Cross of Glory
DESCRIPTION:This Sunday’s image of how the risen Christ shares his life with us is the image of the vine. Christ the vine and we the branches are alive in each other\, in the mystery of mutual abiding described in the gospel and the first letter of John. Baptism makes us a part of Christ’s living and life-giving self and makes us alive with Christ’s life. As the vine brings food to the branches\, Christ feeds us at his table. We are sent out to bear fruit for the life of the world. \nOur service will be live streamed from Cross of Glory Lutheran Church starting at 10:45 AM. Click on the image above to watch the live stream. \nThe bulletin for this service can be found here: https://drive.google.com/file/d/1Yo3T1pDspNgLDEaq8RvjSDefk8enCKCb/view?usp=drive_link
URL:https://www.crossroads55112.org/eventsingle/2024-04-28_cog/
CATEGORIES:Worship
END:VEVENT
BEGIN:VEVENT
DTSTART;TZID=Africa/Abidjan:20240428T093000
DTEND;TZID=Africa/Abidjan:20240428T100000
DTSTAMP:20260425T185805
CREATED:20240424T014338Z
LAST-MODIFIED:20240424T014338Z
UID:26064-1714296600-1714298400@www.crossroads55112.org
SUMMARY:C-Congregational Meeting
DESCRIPTION:
URL:https://www.crossroads55112.org/eventsingle/c-congregational-meeting/
END:VEVENT
BEGIN:VEVENT
DTSTART;TZID=Africa/Abidjan:20240428T093000
DTEND;TZID=Africa/Abidjan:20240428T103000
DTSTAMP:20260425T185805
CREATED:20240424T014331Z
LAST-MODIFIED:20240424T014331Z
UID:26061-1714296600-1714300200@www.crossroads55112.org
SUMMARY:C-Sunday School/Youth
DESCRIPTION:
URL:https://www.crossroads55112.org/eventsingle/c-sunday-school-youth-21/
END:VEVENT
BEGIN:VEVENT
DTSTART;TZID=Africa/Abidjan:20240428T104500
DTEND;TZID=Africa/Abidjan:20240428T114500
DTSTAMP:20260425T185805
CREATED:20240424T015842Z
LAST-MODIFIED:20240424T020224Z
UID:26115-1714301100-1714304700@www.crossroads55112.org
SUMMARY:A-Worship
DESCRIPTION:
URL:https://www.crossroads55112.org/eventsingle/a-worship-11/
CATEGORIES:Worship
END:VEVENT
BEGIN:VEVENT
DTSTART;TZID=Africa/Abidjan:20240428T114500
DTEND;TZID=Africa/Abidjan:20240428T121500
DTSTAMP:20260425T185805
CREATED:20240424T014343Z
LAST-MODIFIED:20240424T014343Z
UID:26066-1714304700-1714306500@www.crossroads55112.org
SUMMARY:A-Congregational Meeting
DESCRIPTION:
URL:https://www.crossroads55112.org/eventsingle/a-congregational-meeting/
END:VEVENT
BEGIN:VEVENT
DTSTART;TZID=Africa/Abidjan:20240428T120000
DTEND;TZID=Africa/Abidjan:20240428T130000
DTSTAMP:20260425T185805
CREATED:20240424T014336Z
LAST-MODIFIED:20240424T014336Z
UID:26063-1714305600-1714309200@www.crossroads55112.org
SUMMARY:A-Cristo Rey
DESCRIPTION:
URL:https://www.crossroads55112.org/eventsingle/a-cristo-rey/
END:VEVENT
BEGIN:VEVENT
DTSTART;TZID=America/Chicago:20240428T120000
DTEND;TZID=America/Chicago:20240428T130000
DTSTAMP:20260425T185805
CREATED:20240424T024111Z
LAST-MODIFIED:20240424T025251Z
UID:26188-1714305600-1714309200@www.crossroads55112.org
SUMMARY:Worship with Cristo Rey
DESCRIPTION:Worship with Cristo Rey
URL:https://www.crossroads55112.org/eventsingle/2024_04-28_cristorey/
LOCATION:Atonement Lutheran Church\, 1980 Silver Lake Road NW\, New Brighton\, MN\, 55112\, United States
CATEGORIES:Worship
END:VEVENT
BEGIN:VEVENT
DTSTART;TZID=Africa/Abidjan:20240428T150000
DTEND;TZID=Africa/Abidjan:20240428T170000
DTSTAMP:20260425T185805
CREATED:20240424T014340Z
LAST-MODIFIED:20240424T014340Z
UID:26065-1714316400-1714323600@www.crossroads55112.org
SUMMARY:A-Faith Comm Church
DESCRIPTION:
URL:https://www.crossroads55112.org/eventsingle/a-faith-comm-church-56/
END:VEVENT
END:VCALENDAR