BEGIN:VCALENDAR
VERSION:2.0
PRODID:-//Crossroads Parish - ECPv6.15.18//NONSGML v1.0//EN
CALSCALE:GREGORIAN
METHOD:PUBLISH
X-ORIGINAL-URL:https://www.crossroads55112.org
X-WR-CALDESC:Events for Crossroads Parish
REFRESH-INTERVAL;VALUE=DURATION:PT1H
X-Robots-Tag:noindex
X-PUBLISHED-TTL:PT1H
BEGIN:VTIMEZONE
TZID:Africa/Abidjan
BEGIN:STANDARD
TZOFFSETFROM:+0000
TZOFFSETTO:+0000
TZNAME:GMT
DTSTART:20230101T000000
END:STANDARD
END:VTIMEZONE
BEGIN:VEVENT
DTSTART;TZID=Africa/Abidjan:20240508T100000
DTEND;TZID=Africa/Abidjan:20240508T110000
DTSTAMP:20260421T064615
CREATED:20240424T014435Z
LAST-MODIFIED:20240424T014435Z
UID:26090-1715162400-1715166000@www.crossroads55112.org
SUMMARY:C-Prayer Shawls
DESCRIPTION:
URL:https://www.crossroads55112.org/eventsingle/c-prayer-shawls-14/
END:VEVENT
BEGIN:VEVENT
DTSTART;TZID=Africa/Abidjan:20240508T160000
DTEND;TZID=Africa/Abidjan:20240508T170000
DTSTAMP:20260421T064615
CREATED:20240424T014437Z
LAST-MODIFIED:20240424T014437Z
UID:26091-1715184000-1715187600@www.crossroads55112.org
SUMMARY:C-Worship Committee
DESCRIPTION:
URL:https://www.crossroads55112.org/eventsingle/c-worship-committee-9/
END:VEVENT
END:VCALENDAR