BEGIN:VCALENDAR
VERSION:2.0
PRODID:-//Crossroads Parish - ECPv6.15.18//NONSGML v1.0//EN
CALSCALE:GREGORIAN
METHOD:PUBLISH
X-ORIGINAL-URL:https://www.crossroads55112.org
X-WR-CALDESC:Events for Crossroads Parish
REFRESH-INTERVAL;VALUE=DURATION:PT1H
X-Robots-Tag:noindex
X-PUBLISHED-TTL:PT1H
BEGIN:VTIMEZONE
TZID:Africa/Abidjan
BEGIN:STANDARD
TZOFFSETFROM:+0000
TZOFFSETTO:+0000
TZNAME:GMT
DTSTART:20230101T000000
END:STANDARD
END:VTIMEZONE
BEGIN:VEVENT
DTSTART;TZID=Africa/Abidjan:20240525T090000
DTEND;TZID=Africa/Abidjan:20240525T150000
DTSTAMP:20260422T175615
CREATED:20240424T015951Z
LAST-MODIFIED:20240424T015951Z
UID:26146-1716627600-1716649200@www.crossroads55112.org
SUMMARY:A-Mount of Blessing Church
DESCRIPTION:
URL:https://www.crossroads55112.org/eventsingle/a-mount-of-blessing-church-71/
END:VEVENT
BEGIN:VEVENT
DTSTART;TZID=Africa/Abidjan:20240525T090000
DTEND;TZID=Africa/Abidjan:20240525T170000
DTSTAMP:20260422T175615
CREATED:20240424T015954Z
LAST-MODIFIED:20240424T015954Z
UID:26147-1716627600-1716656400@www.crossroads55112.org
SUMMARY:C-New Birth Church
DESCRIPTION:
URL:https://www.crossroads55112.org/eventsingle/c-new-birth-church-116/
END:VEVENT
END:VCALENDAR