BEGIN:VCALENDAR
VERSION:2.0
PRODID:-//Crossroads Parish - ECPv6.15.18//NONSGML v1.0//EN
CALSCALE:GREGORIAN
METHOD:PUBLISH
X-WR-CALNAME:Crossroads Parish
X-ORIGINAL-URL:https://www.crossroads55112.org
X-WR-CALDESC:Events for Crossroads Parish
REFRESH-INTERVAL;VALUE=DURATION:PT1H
X-Robots-Tag:noindex
X-PUBLISHED-TTL:PT1H
BEGIN:VTIMEZONE
TZID:Africa/Abidjan
BEGIN:STANDARD
TZOFFSETFROM:+0000
TZOFFSETTO:+0000
TZNAME:GMT
DTSTART:20230101T000000
END:STANDARD
END:VTIMEZONE
BEGIN:VTIMEZONE
TZID:America/Chicago
BEGIN:DAYLIGHT
TZOFFSETFROM:-0600
TZOFFSETTO:-0500
TZNAME:CDT
DTSTART:20230312T080000
END:DAYLIGHT
BEGIN:STANDARD
TZOFFSETFROM:-0500
TZOFFSETTO:-0600
TZNAME:CST
DTSTART:20231105T070000
END:STANDARD
BEGIN:DAYLIGHT
TZOFFSETFROM:-0600
TZOFFSETTO:-0500
TZNAME:CDT
DTSTART:20240310T080000
END:DAYLIGHT
BEGIN:STANDARD
TZOFFSETFROM:-0500
TZOFFSETTO:-0600
TZNAME:CST
DTSTART:20241103T070000
END:STANDARD
BEGIN:DAYLIGHT
TZOFFSETFROM:-0600
TZOFFSETTO:-0500
TZNAME:CDT
DTSTART:20250309T080000
END:DAYLIGHT
BEGIN:STANDARD
TZOFFSETFROM:-0500
TZOFFSETTO:-0600
TZNAME:CST
DTSTART:20251102T070000
END:STANDARD
END:VTIMEZONE
BEGIN:VEVENT
DTSTART;TZID=Africa/Abidjan:20240530T130000
DTEND;TZID=Africa/Abidjan:20240530T140000
DTSTAMP:20260419T091009
CREATED:20240424T020019Z
LAST-MODIFIED:20240424T020019Z
UID:26157-1717074000-1717077600@www.crossroads55112.org
SUMMARY:A-Game Day
DESCRIPTION:
URL:https://www.crossroads55112.org/eventsingle/a-game-day-59/
END:VEVENT
BEGIN:VEVENT
DTSTART;TZID=America/Chicago:20240530T140000
DTEND;TZID=America/Chicago:20240530T150000
DTSTAMP:20260419T091009
CREATED:20241201T200907Z
LAST-MODIFIED:20241201T200907Z
UID:27735-1717077600-1717081200@www.crossroads55112.org
SUMMARY:A-Preschool Graduation
DESCRIPTION:Noon – 4pm using fellowship hall
URL:https://www.crossroads55112.org/eventsingle/a-preschool-graduation/
END:VEVENT
BEGIN:VEVENT
DTSTART;TZID=America/Chicago:20240530T163000
DTEND;TZID=America/Chicago:20240530T173000
DTSTAMP:20260419T091009
CREATED:20241201T200901Z
LAST-MODIFIED:20241201T200901Z
UID:27730-1717086600-1717090200@www.crossroads55112.org
SUMMARY:C-Bible Junk Book Jounaling
DESCRIPTION:
URL:https://www.crossroads55112.org/eventsingle/c-bible-junk-book-jounaling-30/
END:VEVENT
BEGIN:VEVENT
DTSTART;TZID=America/Chicago:20240530T183000
DTEND;TZID=America/Chicago:20240530T200000
DTSTAMP:20260419T091009
CREATED:20241201T200904Z
LAST-MODIFIED:20241201T200904Z
UID:27732-1717093800-1717099200@www.crossroads55112.org
SUMMARY:C-FACC
DESCRIPTION:Prayer Meeting
URL:https://www.crossroads55112.org/eventsingle/c-facc-85/
END:VEVENT
END:VCALENDAR