BEGIN:VCALENDAR
VERSION:2.0
PRODID:-//Crossroads Parish - ECPv6.15.18//NONSGML v1.0//EN
CALSCALE:GREGORIAN
METHOD:PUBLISH
X-WR-CALNAME:Crossroads Parish
X-ORIGINAL-URL:https://www.crossroads55112.org
X-WR-CALDESC:Events for Crossroads Parish
REFRESH-INTERVAL;VALUE=DURATION:PT1H
X-Robots-Tag:noindex
X-PUBLISHED-TTL:PT1H
BEGIN:VTIMEZONE
TZID:Africa/Abidjan
BEGIN:STANDARD
TZOFFSETFROM:+0000
TZOFFSETTO:+0000
TZNAME:GMT
DTSTART:20230101T000000
END:STANDARD
END:VTIMEZONE
BEGIN:VEVENT
DTSTART;TZID=Africa/Abidjan:20240601T090000
DTEND;TZID=Africa/Abidjan:20240601T150000
DTSTAMP:20260422T030344
CREATED:20240424T020026Z
LAST-MODIFIED:20240424T020026Z
UID:26160-1717232400-1717254000@www.crossroads55112.org
SUMMARY:A-Mount of Blessing Church
DESCRIPTION:
URL:https://www.crossroads55112.org/eventsingle/a-mount-of-blessing-church-72/
END:VEVENT
BEGIN:VEVENT
DTSTART;TZID=Africa/Abidjan:20240601T090000
DTEND;TZID=Africa/Abidjan:20240601T170000
DTSTAMP:20260422T030344
CREATED:20240601T171009Z
LAST-MODIFIED:20240601T171009Z
UID:26362-1717232400-1717261200@www.crossroads55112.org
SUMMARY:C-New Birth Church
DESCRIPTION:
URL:https://www.crossroads55112.org/eventsingle/c-new-birth-church-119/
END:VEVENT
BEGIN:VEVENT
DTSTART;TZID=Africa/Abidjan:20240601T160000
DTEND;TZID=Africa/Abidjan:20240601T180000
DTSTAMP:20260422T030344
CREATED:20240601T171012Z
LAST-MODIFIED:20240601T171012Z
UID:26363-1717257600-1717264800@www.crossroads55112.org
SUMMARY:C-FACC
DESCRIPTION:Band practice
URL:https://www.crossroads55112.org/eventsingle/c-facc/
END:VEVENT
END:VCALENDAR