BEGIN:VCALENDAR
VERSION:2.0
PRODID:-//Crossroads Parish - ECPv6.15.18//NONSGML v1.0//EN
CALSCALE:GREGORIAN
METHOD:PUBLISH
X-WR-CALNAME:Crossroads Parish
X-ORIGINAL-URL:https://www.crossroads55112.org
X-WR-CALDESC:Events for Crossroads Parish
REFRESH-INTERVAL;VALUE=DURATION:PT1H
X-Robots-Tag:noindex
X-PUBLISHED-TTL:PT1H
BEGIN:VTIMEZONE
TZID:Africa/Abidjan
BEGIN:STANDARD
TZOFFSETFROM:+0000
TZOFFSETTO:+0000
TZNAME:GMT
DTSTART:20230101T000000
END:STANDARD
END:VTIMEZONE
BEGIN:VEVENT
DTSTART;TZID=Africa/Abidjan:20240602T093000
DTEND;TZID=Africa/Abidjan:20240602T103000
DTSTAMP:20260423T031401
CREATED:20240601T171015Z
LAST-MODIFIED:20240601T183614Z
UID:26364-1717320600-1717324200@www.crossroads55112.org
SUMMARY:Worship at Cross of Glory
DESCRIPTION:Deuteronomy makes clear that sabbath-keeping is meant for the welfare of all. God delivered the Israelites out of slavery\, so they should observe this freedom with a day of rest. No one should work seven days a week; even slaves and foreigners should be able to rest. Yet human beings can turn even the most liberating religious practice into a life-destroying rule. Jesus does not reject sabbath-keeping\, but defends its original life-enhancing meaning. Our worship and our religious way of life are to lead to restoration: the hungry being fed and the sick being healed. \nJoin us this Sunday at 9:30am as we worship from Cross of Glory Lutheran Church (5472 Adams Street\, Mounds View) or join us via live stream by clicking the image above. \nThe bulletin for this service can be found here: https://drive.google.com/file/d/1rkL_jiihyCrtKm3JM8q1kuGISlYCXl_-/view?usp=drive_link \n 
URL:https://www.crossroads55112.org/eventsingle/2024-06-02_cog/
LOCATION:Cross of Glory Lutheran Church\, 5472 Adams Street\, Mounds View\, MN\, 55112\, United States
CATEGORIES:Worship
END:VEVENT
BEGIN:VEVENT
DTSTART;TZID=Africa/Abidjan:20240602T113000
DTEND;TZID=Africa/Abidjan:20240602T160000
DTSTAMP:20260423T031401
CREATED:20240601T171017Z
LAST-MODIFIED:20240601T171017Z
UID:26365-1717327800-1717344000@www.crossroads55112.org
SUMMARY:C-FACC
DESCRIPTION:worship begins at 11:30
URL:https://www.crossroads55112.org/eventsingle/c-facc-2/
END:VEVENT
BEGIN:VEVENT
DTSTART;TZID=Africa/Abidjan:20240602T120000
DTEND;TZID=Africa/Abidjan:20240602T130000
DTSTAMP:20260423T031401
CREATED:20240601T171020Z
LAST-MODIFIED:20240601T183708Z
UID:26366-1717329600-1717333200@www.crossroads55112.org
SUMMARY:Worship with Cristo Rey
DESCRIPTION:Deuteronomio deja claro que la observancia del sábado tiene como objetivo el bienestar de todos. Dios liberó a los israelitas de la esclavitud\, por lo que deberían observar esta libertad con un día de descanso. Nadie debería trabajar los siete días de la semana; Incluso los esclavos y los extranjeros deberían poder descansar. Sin embargo\, los seres humanos pueden convertir incluso la práctica religiosa más liberadora en una norma que destruye la vida. Jesús no rechaza la observancia del sábado\, pero defiende su significado original que mejora la vida. Nuestra adoración y nuestra forma de vida religiosa deben conducir a la restauración: los hambrientos serán alimentados y los enfermos sanados. \nÚnase a nosotros este domingo a las 9:30 a. m. mientras adoramos desde la Iglesia Luterana Cross of Glory (5472 Adams Street\, Mounds View) o únase a nosotros a través de una transmisión en vivo haciendo clic en la imagen a continuación.
URL:https://www.crossroads55112.org/eventsingle/2024-06-02_cr/
LOCATION:Atonement Lutheran Church\, 1980 Silver Lake Road NW\, New Brighton\, MN\, 55112\, United States
CATEGORIES:Worship
END:VEVENT
BEGIN:VEVENT
DTSTART;TZID=Africa/Abidjan:20240602T123000
DTEND;TZID=Africa/Abidjan:20240602T143000
DTSTAMP:20260423T031401
CREATED:20240601T171022Z
LAST-MODIFIED:20240601T171022Z
UID:26367-1717331400-1717338600@www.crossroads55112.org
SUMMARY:A-Faith Comm Church
DESCRIPTION:
URL:https://www.crossroads55112.org/eventsingle/a-faith-comm-church-61/
END:VEVENT
END:VCALENDAR