BEGIN:VCALENDAR
VERSION:2.0
PRODID:-//Crossroads Parish - ECPv6.15.18//NONSGML v1.0//EN
CALSCALE:GREGORIAN
METHOD:PUBLISH
X-WR-CALNAME:Crossroads Parish
X-ORIGINAL-URL:https://www.crossroads55112.org
X-WR-CALDESC:Events for Crossroads Parish
REFRESH-INTERVAL;VALUE=DURATION:PT1H
X-Robots-Tag:noindex
X-PUBLISHED-TTL:PT1H
BEGIN:VTIMEZONE
TZID:Africa/Abidjan
BEGIN:STANDARD
TZOFFSETFROM:+0000
TZOFFSETTO:+0000
TZNAME:GMT
DTSTART:20230101T000000
END:STANDARD
END:VTIMEZONE
BEGIN:VEVENT
DTSTART;TZID=Africa/Abidjan:20240603T080000
DTEND;TZID=Africa/Abidjan:20240603T090000
DTSTAMP:20260422T204610
CREATED:20240601T171025Z
LAST-MODIFIED:20240601T171025Z
UID:26368-1717401600-1717405200@www.crossroads55112.org
SUMMARY:A-Bible Study
DESCRIPTION:At Atonement.
URL:https://www.crossroads55112.org/eventsingle/a-bible-study-10/
END:VEVENT
BEGIN:VEVENT
DTSTART;TZID=Africa/Abidjan:20240603T130000
DTEND;TZID=Africa/Abidjan:20240603T150000
DTSTAMP:20260422T204610
CREATED:20240601T171027Z
LAST-MODIFIED:20240601T171027Z
UID:26369-1717419600-1717426800@www.crossroads55112.org
SUMMARY:A-ABCD
DESCRIPTION:
URL:https://www.crossroads55112.org/eventsingle/a-abcd-14/
END:VEVENT
BEGIN:VEVENT
DTSTART;TZID=Africa/Abidjan:20240603T180000
DTEND;TZID=Africa/Abidjan:20240603T193000
DTSTAMP:20260422T204610
CREATED:20240601T171030Z
LAST-MODIFIED:20240601T171030Z
UID:26370-1717437600-1717443000@www.crossroads55112.org
SUMMARY:A-Girl Scouts
DESCRIPTION:
URL:https://www.crossroads55112.org/eventsingle/a-girl-scouts-26/
END:VEVENT
END:VCALENDAR