BEGIN:VCALENDAR
VERSION:2.0
PRODID:-//Crossroads Parish - ECPv6.15.18//NONSGML v1.0//EN
CALSCALE:GREGORIAN
METHOD:PUBLISH
X-ORIGINAL-URL:https://www.crossroads55112.org
X-WR-CALDESC:Events for Crossroads Parish
REFRESH-INTERVAL;VALUE=DURATION:PT1H
X-Robots-Tag:noindex
X-PUBLISHED-TTL:PT1H
BEGIN:VTIMEZONE
TZID:Africa/Abidjan
BEGIN:STANDARD
TZOFFSETFROM:+0000
TZOFFSETTO:+0000
TZNAME:GMT
DTSTART:20230101T000000
END:STANDARD
END:VTIMEZONE
BEGIN:VEVENT
DTSTART;TZID=Africa/Abidjan:20240604T183000
DTEND;TZID=Africa/Abidjan:20240604T200000
DTSTAMP:20260423T015124
CREATED:20240601T171032Z
LAST-MODIFIED:20240601T171032Z
UID:26371-1717525800-1717531200@www.crossroads55112.org
SUMMARY:C-Boy Scouts
DESCRIPTION:
URL:https://www.crossroads55112.org/eventsingle/c-boy-scouts-8/
END:VEVENT
END:VCALENDAR