BEGIN:VCALENDAR
VERSION:2.0
PRODID:-//Crossroads Parish - ECPv6.15.18//NONSGML v1.0//EN
CALSCALE:GREGORIAN
METHOD:PUBLISH
X-WR-CALNAME:Crossroads Parish
X-ORIGINAL-URL:https://www.crossroads55112.org
X-WR-CALDESC:Events for Crossroads Parish
REFRESH-INTERVAL;VALUE=DURATION:PT1H
X-Robots-Tag:noindex
X-PUBLISHED-TTL:PT1H
BEGIN:VTIMEZONE
TZID:Africa/Abidjan
BEGIN:STANDARD
TZOFFSETFROM:+0000
TZOFFSETTO:+0000
TZNAME:GMT
DTSTART:20230101T000000
END:STANDARD
END:VTIMEZONE
BEGIN:VEVENT
DTSTART;TZID=Africa/Abidjan:20240606T130000
DTEND;TZID=Africa/Abidjan:20240606T140000
DTSTAMP:20260419T115150
CREATED:20240601T171042Z
LAST-MODIFIED:20240601T171042Z
UID:26375-1717678800-1717682400@www.crossroads55112.org
SUMMARY:A-Game Day
DESCRIPTION:
URL:https://www.crossroads55112.org/eventsingle/a-game-day-60/
END:VEVENT
BEGIN:VEVENT
DTSTART;TZID=Africa/Abidjan:20240606T163000
DTEND;TZID=Africa/Abidjan:20240606T173000
DTSTAMP:20260419T115150
CREATED:20240601T171044Z
LAST-MODIFIED:20240601T171044Z
UID:26376-1717691400-1717695000@www.crossroads55112.org
SUMMARY:C-Bible Junk Book Jounaling
DESCRIPTION:
URL:https://www.crossroads55112.org/eventsingle/c-bible-junk-book-jounaling/
END:VEVENT
BEGIN:VEVENT
DTSTART;TZID=Africa/Abidjan:20240606T183000
DTEND;TZID=Africa/Abidjan:20240606T200000
DTSTAMP:20260419T115150
CREATED:20240601T171052Z
LAST-MODIFIED:20240601T171052Z
UID:26377-1717698600-1717704000@www.crossroads55112.org
SUMMARY:C-FACC
DESCRIPTION:Prayer Meeting
URL:https://www.crossroads55112.org/eventsingle/c-facc-3/
END:VEVENT
END:VCALENDAR