BEGIN:VCALENDAR
VERSION:2.0
PRODID:-//Crossroads Parish - ECPv6.15.18//NONSGML v1.0//EN
CALSCALE:GREGORIAN
METHOD:PUBLISH
X-ORIGINAL-URL:https://www.crossroads55112.org
X-WR-CALDESC:Events for Crossroads Parish
REFRESH-INTERVAL;VALUE=DURATION:PT1H
X-Robots-Tag:noindex
X-PUBLISHED-TTL:PT1H
BEGIN:VTIMEZONE
TZID:Africa/Abidjan
BEGIN:STANDARD
TZOFFSETFROM:+0000
TZOFFSETTO:+0000
TZNAME:GMT
DTSTART:20230101T000000
END:STANDARD
END:VTIMEZONE
BEGIN:VEVENT
DTSTART;TZID=Africa/Abidjan:20240608T090000
DTEND;TZID=Africa/Abidjan:20240608T150000
DTSTAMP:20260423T015154
CREATED:20240601T171057Z
LAST-MODIFIED:20240601T171057Z
UID:26379-1717837200-1717858800@www.crossroads55112.org
SUMMARY:A-Mount of Blessing Church
DESCRIPTION:
URL:https://www.crossroads55112.org/eventsingle/a-mount-of-blessing-church-73/
END:VEVENT
BEGIN:VEVENT
DTSTART;TZID=Africa/Abidjan:20240608T090000
DTEND;TZID=Africa/Abidjan:20240608T170000
DTSTAMP:20260423T015154
CREATED:20240601T171100Z
LAST-MODIFIED:20240601T171100Z
UID:26380-1717837200-1717866000@www.crossroads55112.org
SUMMARY:C-New Birth Church
DESCRIPTION:
URL:https://www.crossroads55112.org/eventsingle/c-new-birth-church-121/
END:VEVENT
BEGIN:VEVENT
DTSTART;TZID=Africa/Abidjan:20240608T160000
DTEND;TZID=Africa/Abidjan:20240608T180000
DTSTAMP:20260423T015154
CREATED:20240601T171102Z
LAST-MODIFIED:20240601T171102Z
UID:26381-1717862400-1717869600@www.crossroads55112.org
SUMMARY:C-FACC
DESCRIPTION:Band practice
URL:https://www.crossroads55112.org/eventsingle/c-facc-4/
END:VEVENT
END:VCALENDAR