BEGIN:VCALENDAR
VERSION:2.0
PRODID:-//Crossroads Parish - ECPv6.15.18//NONSGML v1.0//EN
CALSCALE:GREGORIAN
METHOD:PUBLISH
X-WR-CALNAME:Crossroads Parish
X-ORIGINAL-URL:https://www.crossroads55112.org
X-WR-CALDESC:Events for Crossroads Parish
REFRESH-INTERVAL;VALUE=DURATION:PT1H
X-Robots-Tag:noindex
X-PUBLISHED-TTL:PT1H
BEGIN:VTIMEZONE
TZID:Africa/Abidjan
BEGIN:STANDARD
TZOFFSETFROM:+0000
TZOFFSETTO:+0000
TZNAME:GMT
DTSTART:20230101T000000
END:STANDARD
END:VTIMEZONE
BEGIN:VEVENT
DTSTART;VALUE=DATE:20240609
DTEND;VALUE=DATE:20240610
DTSTAMP:20260423T092629
CREATED:20240601T171110Z
LAST-MODIFIED:20240601T171110Z
UID:26382-1717891200-1717977599@www.crossroads55112.org
SUMMARY:A-Prayer Ministers
DESCRIPTION:
URL:https://www.crossroads55112.org/eventsingle/a-prayer-ministers-15/
END:VEVENT
BEGIN:VEVENT
DTSTART;TZID=Africa/Abidjan:20240609T093000
DTEND;TZID=Africa/Abidjan:20240609T103000
DTSTAMP:20260423T092629
CREATED:20240601T171112Z
LAST-MODIFIED:20240601T183315Z
UID:26383-1717925400-1717929000@www.crossroads55112.org
SUMMARY:Worship at Cross of Glory
DESCRIPTION:A house divided against itself cannot stand. Jesus makes this observation in light of charges that he is possessed. He is possessed\, not by a demon\, but by the Holy Spirit. We who have received the Holy Spirit through baptism have been joined to Christ’s death and resurrection and knit together in the body of Christ. Those with whom we sing and pray this day are Jesus’ family. With them we go forth in peace to do the will of God. \nJoin us this Sunday at 9:30am as we worship from Cross of Glory Lutheran Church (5472 Adams Street\, Mounds View) or join us via live stream by clicking the image above. \nThe bulletin for this service can be found here: https://drive.google.com/file/d/1Xq4CCBTP5OQQSSwFLS8eA14sbMu_lYPv/view?usp=drive_link \n 
URL:https://www.crossroads55112.org/eventsingle/2024-06-09_cog/
CATEGORIES:Worship
END:VEVENT
BEGIN:VEVENT
DTSTART;TZID=Africa/Abidjan:20240609T113000
DTEND;TZID=Africa/Abidjan:20240609T160000
DTSTAMP:20260423T092629
CREATED:20240601T171115Z
LAST-MODIFIED:20240601T171115Z
UID:26384-1717932600-1717948800@www.crossroads55112.org
SUMMARY:C-FACC
DESCRIPTION:worship begins at 11:30
URL:https://www.crossroads55112.org/eventsingle/c-facc-5/
END:VEVENT
BEGIN:VEVENT
DTSTART;TZID=Africa/Abidjan:20240609T120000
DTEND;TZID=Africa/Abidjan:20240609T130000
DTSTAMP:20260423T092629
CREATED:20240601T171117Z
LAST-MODIFIED:20240601T182602Z
UID:26385-1717934400-1717938000@www.crossroads55112.org
SUMMARY:Worship with Cristo Rey
DESCRIPTION:Una casa dividida contra sí misma no puede sostenerse. Jesús hace esta observación a la luz de las acusaciones de que está poseído. Está poseído\, no por un demonio\, sino por el Espíritu Santo. Nosotros\, los que hemos recibido el Espíritu Santo a través del bautismo\, hemos sido unidos a la muerte y resurrección de Cristo y unidos en el cuerpo de Cristo. Aquellos con quienes cantamos y oramos este día son la familia de Jesús. Con ellos salimos en paz a hacer la voluntad de Dios. \nÚnase a nosotros este domingo a las 9:30 a. m. mientras adoramos desde la Iglesia Luterana Cross of Glory (5472 Adams Street\, Mounds View) o únase a nosotros a través de una transmisión en vivo haciendo clic en la imagen a continuación.
URL:https://www.crossroads55112.org/eventsingle/2024-06-09_cr/
CATEGORIES:Worship
END:VEVENT
BEGIN:VEVENT
DTSTART;TZID=Africa/Abidjan:20240609T123000
DTEND;TZID=Africa/Abidjan:20240609T143000
DTSTAMP:20260423T092629
CREATED:20240601T171119Z
LAST-MODIFIED:20240601T171119Z
UID:26386-1717936200-1717943400@www.crossroads55112.org
SUMMARY:A-Faith Comm Church
DESCRIPTION:
URL:https://www.crossroads55112.org/eventsingle/a-faith-comm-church-62/
END:VEVENT
END:VCALENDAR