BEGIN:VCALENDAR
VERSION:2.0
PRODID:-//Crossroads Parish - ECPv6.15.18//NONSGML v1.0//EN
CALSCALE:GREGORIAN
METHOD:PUBLISH
X-WR-CALNAME:Crossroads Parish
X-ORIGINAL-URL:https://www.crossroads55112.org
X-WR-CALDESC:Events for Crossroads Parish
REFRESH-INTERVAL;VALUE=DURATION:PT1H
X-Robots-Tag:noindex
X-PUBLISHED-TTL:PT1H
BEGIN:VTIMEZONE
TZID:Africa/Abidjan
BEGIN:STANDARD
TZOFFSETFROM:+0000
TZOFFSETTO:+0000
TZNAME:GMT
DTSTART:20230101T000000
END:STANDARD
END:VTIMEZONE
BEGIN:VEVENT
DTSTART;TZID=Africa/Abidjan:20240615T090000
DTEND;TZID=Africa/Abidjan:20240615T150000
DTSTAMP:20260422T182048
CREATED:20240601T171158Z
LAST-MODIFIED:20240601T171158Z
UID:26398-1718442000-1718463600@www.crossroads55112.org
SUMMARY:A-Mount of Blessing Church
DESCRIPTION:
URL:https://www.crossroads55112.org/eventsingle/a-mount-of-blessing-church-74/
END:VEVENT
BEGIN:VEVENT
DTSTART;TZID=Africa/Abidjan:20240615T090000
DTEND;TZID=Africa/Abidjan:20240615T170000
DTSTAMP:20260422T182048
CREATED:20240601T171202Z
LAST-MODIFIED:20240601T171202Z
UID:26399-1718442000-1718470800@www.crossroads55112.org
SUMMARY:C-New Birth Church
DESCRIPTION:
URL:https://www.crossroads55112.org/eventsingle/c-new-birth-church-123/
END:VEVENT
BEGIN:VEVENT
DTSTART;TZID=Africa/Abidjan:20240615T160000
DTEND;TZID=Africa/Abidjan:20240615T180000
DTSTAMP:20260422T182048
CREATED:20240601T171205Z
LAST-MODIFIED:20240601T171205Z
UID:26400-1718467200-1718474400@www.crossroads55112.org
SUMMARY:C-FACC
DESCRIPTION:Band practice
URL:https://www.crossroads55112.org/eventsingle/c-facc-7/
END:VEVENT
END:VCALENDAR