BEGIN:VCALENDAR
VERSION:2.0
PRODID:-//Crossroads Parish - ECPv6.15.18//NONSGML v1.0//EN
CALSCALE:GREGORIAN
METHOD:PUBLISH
X-WR-CALNAME:Crossroads Parish
X-ORIGINAL-URL:https://www.crossroads55112.org
X-WR-CALDESC:Events for Crossroads Parish
REFRESH-INTERVAL;VALUE=DURATION:PT1H
X-Robots-Tag:noindex
X-PUBLISHED-TTL:PT1H
BEGIN:VTIMEZONE
TZID:America/Chicago
BEGIN:DAYLIGHT
TZOFFSETFROM:-0600
TZOFFSETTO:-0500
TZNAME:CDT
DTSTART:20230312T080000
END:DAYLIGHT
BEGIN:STANDARD
TZOFFSETFROM:-0500
TZOFFSETTO:-0600
TZNAME:CST
DTSTART:20231105T070000
END:STANDARD
BEGIN:DAYLIGHT
TZOFFSETFROM:-0600
TZOFFSETTO:-0500
TZNAME:CDT
DTSTART:20240310T080000
END:DAYLIGHT
BEGIN:STANDARD
TZOFFSETFROM:-0500
TZOFFSETTO:-0600
TZNAME:CST
DTSTART:20241103T070000
END:STANDARD
BEGIN:DAYLIGHT
TZOFFSETFROM:-0600
TZOFFSETTO:-0500
TZNAME:CDT
DTSTART:20250309T080000
END:DAYLIGHT
BEGIN:STANDARD
TZOFFSETFROM:-0500
TZOFFSETTO:-0600
TZNAME:CST
DTSTART:20251102T070000
END:STANDARD
END:VTIMEZONE
BEGIN:VEVENT
DTSTART;TZID=America/Chicago:20240623T093000
DTEND;TZID=America/Chicago:20240623T223000
DTSTAMP:20260423T003224
CREATED:20240601T180613Z
LAST-MODIFIED:20240601T183027Z
UID:26470-1719135000-1719181800@www.crossroads55112.org
SUMMARY:Worship at Cross of Glory
DESCRIPTION:Now is the acceptable time; now is the day of salvation! Now we are in the storm\, the boat almost swamped; but Jesus is here now\, and when we call him\, he will calm the storm. Even the wind and waves listen to him as they would to their creator. We also listen to him and are called to believe in the power of God’s word in him\, a power greater than all that we fear. \nJoin us this Sunday at 9:30am as we worship from Cross of Glory Lutheran Church (5472 Adams Street\, Mounds View) or join us via live stream by clicking the image above. \nThe bulletin for this service can be found here: https://drive.google.com/file/d/12MCk8Aimi3-6Pxn01IuTW7–uuQg6w0E/view?usp=drive_link
URL:https://www.crossroads55112.org/eventsingle/2024-06-23_cog/
LOCATION:Cross of Glory Lutheran Church\, 5472 Adams Street\, Mounds View\, MN\, 55112\, United States
CATEGORIES:Worship
END:VEVENT
BEGIN:VEVENT
DTSTART;TZID=America/Chicago:20240623T120000
DTEND;TZID=America/Chicago:20240623T130000
DTSTAMP:20260423T003224
CREATED:20240601T180859Z
LAST-MODIFIED:20240601T182354Z
UID:26476-1719144000-1719147600@www.crossroads55112.org
SUMMARY:Worship with Cristo Rey
DESCRIPTION:Ahora es el momento aceptable; ¡Ahora es el día de la salvación! Ahora estamos en la tormenta\, el barco casi se hunde; pero Jesús está aquí ahora\, y cuando lo llamemos\, él calmará la tormenta. Hasta el viento y las olas le escuchan como a su creador. Nosotros también lo escuchamos y estamos llamados a creer en el poder de la palabra de Dios en él\, un poder mayor que todo lo que tememos. \nÚnase a nosotros este domingo a las 9:30 a. m. mientras adoramos desde la Iglesia Luterana Cross of Glory (5472 Adams Street\, Mounds View) o únase a nosotros a través de una transmisión en vivo haciendo clic en la imagen a continuación.
URL:https://www.crossroads55112.org/eventsingle/2024-06-23_cr/
LOCATION:Atonement Lutheran Church\, 1980 Silver Lake Road NW\, New Brighton\, MN\, 55112\, United States
CATEGORIES:Worship
END:VEVENT
END:VCALENDAR