BEGIN:VCALENDAR
VERSION:2.0
PRODID:-//Crossroads Parish - ECPv6.15.18//NONSGML v1.0//EN
CALSCALE:GREGORIAN
METHOD:PUBLISH
X-ORIGINAL-URL:https://www.crossroads55112.org
X-WR-CALDESC:Events for Crossroads Parish
REFRESH-INTERVAL;VALUE=DURATION:PT1H
X-Robots-Tag:noindex
X-PUBLISHED-TTL:PT1H
BEGIN:VTIMEZONE
TZID:Africa/Abidjan
BEGIN:STANDARD
TZOFFSETFROM:+0000
TZOFFSETTO:+0000
TZNAME:GMT
DTSTART:20230101T000000
END:STANDARD
END:VTIMEZONE
BEGIN:VEVENT
DTSTART;TZID=Africa/Abidjan:20240706T090000
DTEND;TZID=Africa/Abidjan:20240706T150000
DTSTAMP:20260423T015214
CREATED:20240703T210627Z
LAST-MODIFIED:20240703T210627Z
UID:26566-1720256400-1720278000@www.crossroads55112.org
SUMMARY:A-Mount of Blessing Church
DESCRIPTION:
URL:https://www.crossroads55112.org/eventsingle/a-mount-of-blessing-church-75/
END:VEVENT
BEGIN:VEVENT
DTSTART;TZID=Africa/Abidjan:20240706T090000
DTEND;TZID=Africa/Abidjan:20240706T170000
DTSTAMP:20260423T015214
CREATED:20240703T210630Z
LAST-MODIFIED:20240703T210630Z
UID:26567-1720256400-1720285200@www.crossroads55112.org
SUMMARY:C-New Birth Church
DESCRIPTION:
URL:https://www.crossroads55112.org/eventsingle/c-new-birth-church-125/
END:VEVENT
BEGIN:VEVENT
DTSTART;TZID=Africa/Abidjan:20240706T160000
DTEND;TZID=Africa/Abidjan:20240706T180000
DTSTAMP:20260423T015214
CREATED:20240703T210633Z
LAST-MODIFIED:20240703T210633Z
UID:26568-1720281600-1720288800@www.crossroads55112.org
SUMMARY:C-FACC
DESCRIPTION:Band practice
URL:https://www.crossroads55112.org/eventsingle/c-facc-10/
END:VEVENT
END:VCALENDAR