BEGIN:VCALENDAR
VERSION:2.0
PRODID:-//Crossroads Parish - ECPv6.15.18//NONSGML v1.0//EN
CALSCALE:GREGORIAN
METHOD:PUBLISH
X-WR-CALNAME:Crossroads Parish
X-ORIGINAL-URL:https://www.crossroads55112.org
X-WR-CALDESC:Events for Crossroads Parish
REFRESH-INTERVAL;VALUE=DURATION:PT1H
X-Robots-Tag:noindex
X-PUBLISHED-TTL:PT1H
BEGIN:VTIMEZONE
TZID:Africa/Abidjan
BEGIN:STANDARD
TZOFFSETFROM:+0000
TZOFFSETTO:+0000
TZNAME:GMT
DTSTART:20230101T000000
END:STANDARD
END:VTIMEZONE
BEGIN:VEVENT
DTSTART;TZID=Africa/Abidjan:20240710T160000
DTEND;TZID=Africa/Abidjan:20240710T170000
DTSTAMP:20260419T091039
CREATED:20240703T210651Z
LAST-MODIFIED:20240703T210651Z
UID:26576-1720627200-1720630800@www.crossroads55112.org
SUMMARY:C-Worship Committee
DESCRIPTION:
URL:https://www.crossroads55112.org/eventsingle/c-worship-committee-11/
END:VEVENT
BEGIN:VEVENT
DTSTART;TZID=Africa/Abidjan:20240710T183000
DTEND;TZID=Africa/Abidjan:20240710T193000
DTSTAMP:20260419T091039
CREATED:20240703T210653Z
LAST-MODIFIED:20240703T210653Z
UID:26577-1720636200-1720639800@www.crossroads55112.org
SUMMARY:A - Cristo Rey
DESCRIPTION:Weekly Bible Study
URL:https://www.crossroads55112.org/eventsingle/a-cristo-rey-5/
END:VEVENT
END:VCALENDAR