BEGIN:VCALENDAR
VERSION:2.0
PRODID:-//Crossroads Parish - ECPv6.15.18//NONSGML v1.0//EN
CALSCALE:GREGORIAN
METHOD:PUBLISH
X-ORIGINAL-URL:https://www.crossroads55112.org
X-WR-CALDESC:Events for Crossroads Parish
REFRESH-INTERVAL;VALUE=DURATION:PT1H
X-Robots-Tag:noindex
X-PUBLISHED-TTL:PT1H
BEGIN:VTIMEZONE
TZID:Africa/Abidjan
BEGIN:STANDARD
TZOFFSETFROM:+0000
TZOFFSETTO:+0000
TZNAME:GMT
DTSTART:20230101T000000
END:STANDARD
END:VTIMEZONE
BEGIN:VEVENT
DTSTART;VALUE=DATE:20240729
DTEND;VALUE=DATE:20240730
DTSTAMP:20260421T041938
CREATED:20240703T210908Z
LAST-MODIFIED:20240703T210908Z
UID:26632-1722211200-1722297599@www.crossroads55112.org
SUMMARY:Ox Roots Camp
DESCRIPTION:
URL:https://www.crossroads55112.org/eventsingle/ox-roots-camp-2/
END:VEVENT
BEGIN:VEVENT
DTSTART;TZID=Africa/Abidjan:20240729T080000
DTEND;TZID=Africa/Abidjan:20240729T090000
DTSTAMP:20260421T041938
CREATED:20240703T210910Z
LAST-MODIFIED:20240703T210910Z
UID:26633-1722240000-1722243600@www.crossroads55112.org
SUMMARY:A-Bible Study
DESCRIPTION:At Atonement.
URL:https://www.crossroads55112.org/eventsingle/a-bible-study-16/
END:VEVENT
BEGIN:VEVENT
DTSTART;TZID=Africa/Abidjan:20240729T100000
DTEND;TZID=Africa/Abidjan:20240729T110000
DTSTAMP:20260421T041938
CREATED:20240703T210912Z
LAST-MODIFIED:20240703T210912Z
UID:26634-1722247200-1722250800@www.crossroads55112.org
SUMMARY:Walking Group
DESCRIPTION:
URL:https://www.crossroads55112.org/eventsingle/walking-group-5/
END:VEVENT
END:VCALENDAR