BEGIN:VCALENDAR
VERSION:2.0
PRODID:-//Crossroads Parish - ECPv6.15.18//NONSGML v1.0//EN
CALSCALE:GREGORIAN
METHOD:PUBLISH
X-ORIGINAL-URL:https://www.crossroads55112.org
X-WR-CALDESC:Events for Crossroads Parish
REFRESH-INTERVAL;VALUE=DURATION:PT1H
X-Robots-Tag:noindex
X-PUBLISHED-TTL:PT1H
BEGIN:VTIMEZONE
TZID:Africa/Abidjan
BEGIN:STANDARD
TZOFFSETFROM:+0000
TZOFFSETTO:+0000
TZNAME:GMT
DTSTART:20230101T000000
END:STANDARD
END:VTIMEZONE
BEGIN:VEVENT
DTSTART;VALUE=DATE:20240731
DTEND;VALUE=DATE:20240801
DTSTAMP:20260419T231951
CREATED:20240703T210919Z
LAST-MODIFIED:20240703T210919Z
UID:26637-1722384000-1722470399@www.crossroads55112.org
SUMMARY:Ox Roots Camp
DESCRIPTION:
URL:https://www.crossroads55112.org/eventsingle/ox-roots-camp-4/
END:VEVENT
BEGIN:VEVENT
DTSTART;TZID=Africa/Abidjan:20240731T183000
DTEND;TZID=Africa/Abidjan:20240731T193000
DTSTAMP:20260419T231951
CREATED:20240703T210921Z
LAST-MODIFIED:20240703T210921Z
UID:26638-1722450600-1722454200@www.crossroads55112.org
SUMMARY:A - Cristo Rey
DESCRIPTION:Weekly Bible Study
URL:https://www.crossroads55112.org/eventsingle/a-cristo-rey-11/
END:VEVENT
END:VCALENDAR