BEGIN:VCALENDAR
VERSION:2.0
PRODID:-//Crossroads Parish - ECPv6.15.18//NONSGML v1.0//EN
CALSCALE:GREGORIAN
METHOD:PUBLISH
X-ORIGINAL-URL:https://www.crossroads55112.org
X-WR-CALDESC:Events for Crossroads Parish
REFRESH-INTERVAL;VALUE=DURATION:PT1H
X-Robots-Tag:noindex
X-PUBLISHED-TTL:PT1H
BEGIN:VTIMEZONE
TZID:Africa/Abidjan
BEGIN:STANDARD
TZOFFSETFROM:+0000
TZOFFSETTO:+0000
TZNAME:GMT
DTSTART:20230101T000000
END:STANDARD
END:VTIMEZONE
BEGIN:VEVENT
DTSTART;VALUE=DATE:20240801
DTEND;VALUE=DATE:20240802
DTSTAMP:20260421T223651
CREATED:20240703T210924Z
LAST-MODIFIED:20240703T210924Z
UID:26639-1722470400-1722556799@www.crossroads55112.org
SUMMARY:Ox Roots Camp
DESCRIPTION:
URL:https://www.crossroads55112.org/eventsingle/ox-roots-camp-5/
END:VEVENT
BEGIN:VEVENT
DTSTART;TZID=Africa/Abidjan:20240801T090000
DTEND;TZID=Africa/Abidjan:20240801T190000
DTSTAMP:20260421T223651
CREATED:20240703T210926Z
LAST-MODIFIED:20240703T210926Z
UID:26640-1722502800-1722538800@www.crossroads55112.org
SUMMARY:C-Jumbo Sale
DESCRIPTION:
URL:https://www.crossroads55112.org/eventsingle/c-jumbo-sale-4/
END:VEVENT
BEGIN:VEVENT
DTSTART;TZID=Africa/Abidjan:20240801T130000
DTEND;TZID=Africa/Abidjan:20240801T140000
DTSTAMP:20260421T223651
CREATED:20240703T210928Z
LAST-MODIFIED:20240703T210928Z
UID:26641-1722517200-1722520800@www.crossroads55112.org
SUMMARY:A-Game Day
DESCRIPTION:
URL:https://www.crossroads55112.org/eventsingle/a-game-day-65/
END:VEVENT
BEGIN:VEVENT
DTSTART;TZID=Africa/Abidjan:20240801T163000
DTEND;TZID=Africa/Abidjan:20240801T173000
DTSTAMP:20260421T223651
CREATED:20240703T210931Z
LAST-MODIFIED:20240703T210931Z
UID:26642-1722529800-1722533400@www.crossroads55112.org
SUMMARY:C-Bible Junk Book Jounaling
DESCRIPTION:
URL:https://www.crossroads55112.org/eventsingle/c-bible-junk-book-jounaling-6/
END:VEVENT
BEGIN:VEVENT
DTSTART;TZID=Africa/Abidjan:20240801T183000
DTEND;TZID=Africa/Abidjan:20240801T200000
DTSTAMP:20260421T223651
CREATED:20240703T210933Z
LAST-MODIFIED:20240703T210933Z
UID:26643-1722537000-1722542400@www.crossroads55112.org
SUMMARY:C-FACC
DESCRIPTION:Prayer Meeting
URL:https://www.crossroads55112.org/eventsingle/c-facc-21/
END:VEVENT
END:VCALENDAR