BEGIN:VCALENDAR
VERSION:2.0
PRODID:-//Crossroads Parish - ECPv6.15.18//NONSGML v1.0//EN
CALSCALE:GREGORIAN
METHOD:PUBLISH
X-WR-CALNAME:Crossroads Parish
X-ORIGINAL-URL:https://www.crossroads55112.org
X-WR-CALDESC:Events for Crossroads Parish
REFRESH-INTERVAL;VALUE=DURATION:PT1H
X-Robots-Tag:noindex
X-PUBLISHED-TTL:PT1H
BEGIN:VTIMEZONE
TZID:Africa/Abidjan
BEGIN:STANDARD
TZOFFSETFROM:+0000
TZOFFSETTO:+0000
TZNAME:GMT
DTSTART:20230101T000000
END:STANDARD
END:VTIMEZONE
BEGIN:VEVENT
DTSTART;TZID=Africa/Abidjan:20240805T080000
DTEND;TZID=Africa/Abidjan:20240805T090000
DTSTAMP:20260423T003104
CREATED:20240703T211014Z
LAST-MODIFIED:20240703T211014Z
UID:26666-1722844800-1722848400@www.crossroads55112.org
SUMMARY:A-Bible Study
DESCRIPTION:At Atonement.
URL:https://www.crossroads55112.org/eventsingle/a-bible-study-17/
END:VEVENT
BEGIN:VEVENT
DTSTART;TZID=Africa/Abidjan:20240805T100000
DTEND;TZID=Africa/Abidjan:20240805T110000
DTSTAMP:20260423T003104
CREATED:20240703T211016Z
LAST-MODIFIED:20240703T211016Z
UID:26667-1722852000-1722855600@www.crossroads55112.org
SUMMARY:Walking Group
DESCRIPTION:
URL:https://www.crossroads55112.org/eventsingle/walking-group-6/
END:VEVENT
END:VCALENDAR