BEGIN:VCALENDAR
VERSION:2.0
PRODID:-//Crossroads Parish - ECPv6.15.18//NONSGML v1.0//EN
CALSCALE:GREGORIAN
METHOD:PUBLISH
X-ORIGINAL-URL:https://www.crossroads55112.org
X-WR-CALDESC:Events for Crossroads Parish
REFRESH-INTERVAL;VALUE=DURATION:PT1H
X-Robots-Tag:noindex
X-PUBLISHED-TTL:PT1H
BEGIN:VTIMEZONE
TZID:Africa/Abidjan
BEGIN:STANDARD
TZOFFSETFROM:+0000
TZOFFSETTO:+0000
TZNAME:GMT
DTSTART:20230101T000000
END:STANDARD
END:VTIMEZONE
BEGIN:VEVENT
DTSTART;TZID=Africa/Abidjan:20240817T090000
DTEND;TZID=Africa/Abidjan:20240817T150000
DTSTAMP:20260423T104705
CREATED:20240703T211358Z
LAST-MODIFIED:20240703T211358Z
UID:26712-1723885200-1723906800@www.crossroads55112.org
SUMMARY:A-Mount of Blessing Church
DESCRIPTION:
URL:https://www.crossroads55112.org/eventsingle/a-mount-of-blessing-church-83/
END:VEVENT
BEGIN:VEVENT
DTSTART;TZID=Africa/Abidjan:20240817T090000
DTEND;TZID=Africa/Abidjan:20240817T170000
DTSTAMP:20260423T104705
CREATED:20240703T211400Z
LAST-MODIFIED:20240703T211400Z
UID:26713-1723885200-1723914000@www.crossroads55112.org
SUMMARY:C-New Birth Church
DESCRIPTION:
URL:https://www.crossroads55112.org/eventsingle/c-new-birth-church-138/
END:VEVENT
BEGIN:VEVENT
DTSTART;TZID=Africa/Abidjan:20240817T160000
DTEND;TZID=Africa/Abidjan:20240817T180000
DTSTAMP:20260423T104705
CREATED:20240703T211408Z
LAST-MODIFIED:20240703T211408Z
UID:26714-1723910400-1723917600@www.crossroads55112.org
SUMMARY:C-FACC
DESCRIPTION:Band practice
URL:https://www.crossroads55112.org/eventsingle/c-facc-30/
END:VEVENT
END:VCALENDAR