BEGIN:VCALENDAR
VERSION:2.0
PRODID:-//Crossroads Parish - ECPv6.15.18//NONSGML v1.0//EN
CALSCALE:GREGORIAN
METHOD:PUBLISH
X-WR-CALNAME:Crossroads Parish
X-ORIGINAL-URL:https://www.crossroads55112.org
X-WR-CALDESC:Events for Crossroads Parish
REFRESH-INTERVAL;VALUE=DURATION:PT1H
X-Robots-Tag:noindex
X-PUBLISHED-TTL:PT1H
BEGIN:VTIMEZONE
TZID:America/Chicago
BEGIN:DAYLIGHT
TZOFFSETFROM:-0600
TZOFFSETTO:-0500
TZNAME:CDT
DTSTART:20230312T080000
END:DAYLIGHT
BEGIN:STANDARD
TZOFFSETFROM:-0500
TZOFFSETTO:-0600
TZNAME:CST
DTSTART:20231105T070000
END:STANDARD
BEGIN:DAYLIGHT
TZOFFSETFROM:-0600
TZOFFSETTO:-0500
TZNAME:CDT
DTSTART:20240310T080000
END:DAYLIGHT
BEGIN:STANDARD
TZOFFSETFROM:-0500
TZOFFSETTO:-0600
TZNAME:CST
DTSTART:20241103T070000
END:STANDARD
BEGIN:DAYLIGHT
TZOFFSETFROM:-0600
TZOFFSETTO:-0500
TZNAME:CDT
DTSTART:20250309T080000
END:DAYLIGHT
BEGIN:STANDARD
TZOFFSETFROM:-0500
TZOFFSETTO:-0600
TZNAME:CST
DTSTART:20251102T070000
END:STANDARD
END:VTIMEZONE
BEGIN:VEVENT
DTSTART;TZID=America/Chicago:20240919T130000
DTEND;TZID=America/Chicago:20240919T140000
DTSTAMP:20260424T021217
CREATED:20240831T000651Z
LAST-MODIFIED:20240831T000651Z
UID:26968-1726750800-1726754400@www.crossroads55112.org
SUMMARY:A-Game Day
DESCRIPTION:
URL:https://www.crossroads55112.org/eventsingle/a-game-day-72/
END:VEVENT
BEGIN:VEVENT
DTSTART;TZID=America/Chicago:20240919T163000
DTEND;TZID=America/Chicago:20240919T173000
DTSTAMP:20260424T021217
CREATED:20240831T000653Z
LAST-MODIFIED:20240831T000653Z
UID:26969-1726763400-1726767000@www.crossroads55112.org
SUMMARY:C-Bible Junk Book Jounaling
DESCRIPTION:
URL:https://www.crossroads55112.org/eventsingle/c-bible-junk-book-jounaling-13/
END:VEVENT
BEGIN:VEVENT
DTSTART;TZID=America/Chicago:20240919T183000
DTEND;TZID=America/Chicago:20240919T200000
DTSTAMP:20260424T021217
CREATED:20240831T000655Z
LAST-MODIFIED:20240831T000655Z
UID:26970-1726770600-1726776000@www.crossroads55112.org
SUMMARY:C-FACC
DESCRIPTION:Prayer Meeting
URL:https://www.crossroads55112.org/eventsingle/c-facc-44/
END:VEVENT
BEGIN:VEVENT
DTSTART;TZID=America/Chicago:20240919T183000
DTEND;TZID=America/Chicago:20240919T200000
DTSTAMP:20260424T021217
CREATED:20240831T000855Z
LAST-MODIFIED:20240831T000855Z
UID:26971-1726770600-1726776000@www.crossroads55112.org
SUMMARY:C-FACC
DESCRIPTION:Prayer Meeting
URL:https://www.crossroads55112.org/eventsingle/c-facc-45/
END:VEVENT
END:VCALENDAR