BEGIN:VCALENDAR
VERSION:2.0
PRODID:-//Crossroads Parish - ECPv6.15.18//NONSGML v1.0//EN
CALSCALE:GREGORIAN
METHOD:PUBLISH
X-WR-CALNAME:Crossroads Parish
X-ORIGINAL-URL:https://www.crossroads55112.org
X-WR-CALDESC:Events for Crossroads Parish
REFRESH-INTERVAL;VALUE=DURATION:PT1H
X-Robots-Tag:noindex
X-PUBLISHED-TTL:PT1H
BEGIN:VTIMEZONE
TZID:America/Chicago
BEGIN:DAYLIGHT
TZOFFSETFROM:-0600
TZOFFSETTO:-0500
TZNAME:CDT
DTSTART:20240310T080000
END:DAYLIGHT
BEGIN:STANDARD
TZOFFSETFROM:-0500
TZOFFSETTO:-0600
TZNAME:CST
DTSTART:20241103T070000
END:STANDARD
BEGIN:DAYLIGHT
TZOFFSETFROM:-0600
TZOFFSETTO:-0500
TZNAME:CDT
DTSTART:20250309T080000
END:DAYLIGHT
BEGIN:STANDARD
TZOFFSETFROM:-0500
TZOFFSETTO:-0600
TZNAME:CST
DTSTART:20251102T070000
END:STANDARD
BEGIN:DAYLIGHT
TZOFFSETFROM:-0600
TZOFFSETTO:-0500
TZNAME:CDT
DTSTART:20260308T080000
END:DAYLIGHT
BEGIN:STANDARD
TZOFFSETFROM:-0500
TZOFFSETTO:-0600
TZNAME:CST
DTSTART:20261101T070000
END:STANDARD
END:VTIMEZONE
BEGIN:VEVENT
DTSTART;TZID=America/Chicago:20250213T093000
DTEND;TZID=America/Chicago:20250213T103000
DTSTAMP:20260422T000205
CREATED:20250127T212932Z
LAST-MODIFIED:20250127T212932Z
UID:27941-1739439000-1739442600@www.crossroads55112.org
SUMMARY:A-Mary Circle
DESCRIPTION:
URL:https://www.crossroads55112.org/eventsingle/a-mary-circle-24/
END:VEVENT
BEGIN:VEVENT
DTSTART;TZID=America/Chicago:20250213T100000
DTEND;TZID=America/Chicago:20250213T110000
DTSTAMP:20260422T000205
CREATED:20250127T212934Z
LAST-MODIFIED:20250127T212934Z
UID:27942-1739440800-1739444400@www.crossroads55112.org
SUMMARY:C-Naomi Circle
DESCRIPTION:
URL:https://www.crossroads55112.org/eventsingle/c-naomi-circle-22/
END:VEVENT
BEGIN:VEVENT
DTSTART;TZID=America/Chicago:20250213T130000
DTEND;TZID=America/Chicago:20250213T140000
DTSTAMP:20260422T000205
CREATED:20250127T212936Z
LAST-MODIFIED:20250127T212936Z
UID:27943-1739451600-1739455200@www.crossroads55112.org
SUMMARY:A-Game Day
DESCRIPTION:
URL:https://www.crossroads55112.org/eventsingle/a-game-day-98/
END:VEVENT
BEGIN:VEVENT
DTSTART;TZID=America/Chicago:20250213T163000
DTEND;TZID=America/Chicago:20250213T173000
DTSTAMP:20260422T000205
CREATED:20250127T212939Z
LAST-MODIFIED:20250127T212939Z
UID:27944-1739464200-1739467800@www.crossroads55112.org
SUMMARY:C-Bible Junk Book Jounaling
DESCRIPTION:
URL:https://www.crossroads55112.org/eventsingle/c-bible-junk-book-jounaling-32/
END:VEVENT
BEGIN:VEVENT
DTSTART;TZID=America/Chicago:20250213T183000
DTEND;TZID=America/Chicago:20250213T200000
DTSTAMP:20260422T000205
CREATED:20250127T212941Z
LAST-MODIFIED:20250127T212941Z
UID:27945-1739471400-1739476800@www.crossroads55112.org
SUMMARY:C-FACC
DESCRIPTION:Prayer Meeting
URL:https://www.crossroads55112.org/eventsingle/c-facc-93/
END:VEVENT
END:VCALENDAR