BEGIN:VCALENDAR
VERSION:2.0
PRODID:-//Crossroads Parish - ECPv6.15.18//NONSGML v1.0//EN
CALSCALE:GREGORIAN
METHOD:PUBLISH
X-ORIGINAL-URL:https://www.crossroads55112.org
X-WR-CALDESC:Events for Crossroads Parish
REFRESH-INTERVAL;VALUE=DURATION:PT1H
X-Robots-Tag:noindex
X-PUBLISHED-TTL:PT1H
BEGIN:VTIMEZONE
TZID:UTC
BEGIN:STANDARD
TZOFFSETFROM:+0000
TZOFFSETTO:+0000
TZNAME:UTC
DTSTART:20240101T000000
END:STANDARD
END:VTIMEZONE
BEGIN:VTIMEZONE
TZID:America/Chicago
BEGIN:DAYLIGHT
TZOFFSETFROM:-0600
TZOFFSETTO:-0500
TZNAME:CDT
DTSTART:20240310T080000
END:DAYLIGHT
BEGIN:STANDARD
TZOFFSETFROM:-0500
TZOFFSETTO:-0600
TZNAME:CST
DTSTART:20241103T070000
END:STANDARD
BEGIN:DAYLIGHT
TZOFFSETFROM:-0600
TZOFFSETTO:-0500
TZNAME:CDT
DTSTART:20250309T080000
END:DAYLIGHT
BEGIN:STANDARD
TZOFFSETFROM:-0500
TZOFFSETTO:-0600
TZNAME:CST
DTSTART:20251102T070000
END:STANDARD
BEGIN:DAYLIGHT
TZOFFSETFROM:-0600
TZOFFSETTO:-0500
TZNAME:CDT
DTSTART:20260308T080000
END:DAYLIGHT
BEGIN:STANDARD
TZOFFSETFROM:-0500
TZOFFSETTO:-0600
TZNAME:CST
DTSTART:20261101T070000
END:STANDARD
END:VTIMEZONE
BEGIN:VEVENT
DTSTART;VALUE=DATE:20250327
DTEND;VALUE=DATE:20250328
DTSTAMP:20260425T163254
CREATED:20250301T030356Z
LAST-MODIFIED:20250301T030356Z
UID:28322-1743033600-1743119999@www.crossroads55112.org
SUMMARY:A-No KKP
DESCRIPTION:
URL:https://www.crossroads55112.org/eventsingle/a-no-kkp-19/
END:VEVENT
BEGIN:VEVENT
DTSTART;TZID=America/Chicago:20250327T130000
DTEND;TZID=America/Chicago:20250327T140000
DTSTAMP:20260425T163254
CREATED:20250301T030359Z
LAST-MODIFIED:20250301T030359Z
UID:28323-1743080400-1743084000@www.crossroads55112.org
SUMMARY:A-Game Day
DESCRIPTION:
URL:https://www.crossroads55112.org/eventsingle/a-game-day-104/
END:VEVENT
BEGIN:VEVENT
DTSTART;TZID=America/Chicago:20250327T163000
DTEND;TZID=America/Chicago:20250327T173000
DTSTAMP:20260425T163254
CREATED:20250301T030404Z
LAST-MODIFIED:20250301T030404Z
UID:28324-1743093000-1743096600@www.crossroads55112.org
SUMMARY:C-Bible Junk Book Jounaling
DESCRIPTION:
URL:https://www.crossroads55112.org/eventsingle/c-bible-junk-book-jounaling-38/
END:VEVENT
BEGIN:VEVENT
DTSTART;TZID=America/Chicago:20250327T183000
DTEND;TZID=America/Chicago:20250327T200000
DTSTAMP:20260425T163254
CREATED:20250301T030409Z
LAST-MODIFIED:20250301T030409Z
UID:28325-1743100200-1743105600@www.crossroads55112.org
SUMMARY:C-FACC
DESCRIPTION:Prayer Meeting
URL:https://www.crossroads55112.org/eventsingle/c-facc-111/
END:VEVENT
END:VCALENDAR